BEGIN:VCALENDAR
VERSION:2.0
PRODID:-//Observatoire et Planétarium de Mont-Soleil - ECPv6.15.20//NONSGML v1.0//EN
CALSCALE:GREGORIAN
METHOD:PUBLISH
X-WR-CALNAME:Observatoire et Planétarium de Mont-Soleil
X-ORIGINAL-URL:https://observatoire-mont-soleil.ch
X-WR-CALDESC:Évènements pour Observatoire et Planétarium de Mont-Soleil
REFRESH-INTERVAL;VALUE=DURATION:PT1H
X-Robots-Tag:noindex
X-PUBLISHED-TTL:PT1H
BEGIN:VTIMEZONE
TZID:Europe/Zurich
BEGIN:DAYLIGHT
TZOFFSETFROM:+0100
TZOFFSETTO:+0200
TZNAME:CEST
DTSTART:20240331T010000
END:DAYLIGHT
BEGIN:STANDARD
TZOFFSETFROM:+0200
TZOFFSETTO:+0100
TZNAME:CET
DTSTART:20241027T010000
END:STANDARD
BEGIN:DAYLIGHT
TZOFFSETFROM:+0100
TZOFFSETTO:+0200
TZNAME:CEST
DTSTART:20250330T010000
END:DAYLIGHT
BEGIN:STANDARD
TZOFFSETFROM:+0200
TZOFFSETTO:+0100
TZNAME:CET
DTSTART:20251026T010000
END:STANDARD
BEGIN:DAYLIGHT
TZOFFSETFROM:+0100
TZOFFSETTO:+0200
TZNAME:CEST
DTSTART:20260329T010000
END:DAYLIGHT
BEGIN:STANDARD
TZOFFSETFROM:+0200
TZOFFSETTO:+0100
TZNAME:CET
DTSTART:20261025T010000
END:STANDARD
END:VTIMEZONE
BEGIN:VEVENT
DTSTART;TZID=Europe/Zurich:20250711T001200
DTEND;TZID=Europe/Zurich:20250711T001200
DTSTAMP:20260422T122221
CREATED:20241226T123212Z
LAST-MODIFIED:20241226T123212Z
UID:30601-1752192720-1752192720@observatoire-mont-soleil.ch
SUMMARY:Début de l'occultation de HD 183275 (magn. = 5.49)
DESCRIPTION:
URL:https://observatoire-mont-soleil.ch/event/debut-de-loccultation-de-hd-183275-magn-5-49/
END:VEVENT
BEGIN:VEVENT
DTSTART;TZID=Europe/Zurich:20250711T011700
DTEND;TZID=Europe/Zurich:20250711T011700
DTSTAMP:20260422T122221
CREATED:20241226T123212Z
LAST-MODIFIED:20241226T123212Z
UID:30602-1752196620-1752196620@observatoire-mont-soleil.ch
SUMMARY:Fin de l'occultation de HD 183275 (magn. = 5.49)
DESCRIPTION:
URL:https://observatoire-mont-soleil.ch/event/fin-de-loccultation-de-hd-183275-magn-5-49/
END:VEVENT
BEGIN:VEVENT
DTSTART;TZID=Europe/Zurich:20250711T034700
DTEND;TZID=Europe/Zurich:20250711T034700
DTSTAMP:20260422T122221
CREATED:20241226T123222Z
LAST-MODIFIED:20241226T123222Z
UID:30603-1752205620-1752205620@observatoire-mont-soleil.ch
SUMMARY:Maximum de l'étoile variable delta de Céphée
DESCRIPTION:
URL:https://observatoire-mont-soleil.ch/event/maximum-de-letoile-variable-delta-de-cephee-33/
END:VEVENT
BEGIN:VEVENT
DTSTART;TZID=Europe/Zurich:20250711T065300
DTEND;TZID=Europe/Zurich:20250711T065300
DTSTAMP:20260422T122221
CREATED:20241226T123222Z
LAST-MODIFIED:20241226T123222Z
UID:30604-1752216780-1752216780@observatoire-mont-soleil.ch
SUMMARY:Maximum de l'étoile variable zêta des Gémeaux
DESCRIPTION:
URL:https://observatoire-mont-soleil.ch/event/maximum-de-letoile-variable-zeta-des-gemeaux-18/
END:VEVENT
BEGIN:VEVENT
DTSTART;TZID=Europe/Zurich:20250711T233900
DTEND;TZID=Europe/Zurich:20250711T233900
DTSTAMP:20260422T122221
CREATED:20241226T123222Z
LAST-MODIFIED:20241226T123222Z
UID:30605-1752277140-1752277140@observatoire-mont-soleil.ch
SUMMARY:Rapprochement entre la Lune et Pluton (dist. topocentrique centre à centre = 0.9°)
DESCRIPTION:
URL:https://observatoire-mont-soleil.ch/event/rapprochement-entre-la-lune-et-pluton-dist-topocentrique-centre-a-centre-0-9/
END:VEVENT
END:VCALENDAR