BEGIN:VCALENDAR
VERSION:2.0
PRODID:-//Observatoire et Planétarium de Mont-Soleil - ECPv6.15.20//NONSGML v1.0//EN
CALSCALE:GREGORIAN
METHOD:PUBLISH
X-ORIGINAL-URL:https://observatoire-mont-soleil.ch
X-WR-CALDESC:Évènements pour Observatoire et Planétarium de Mont-Soleil
REFRESH-INTERVAL;VALUE=DURATION:PT1H
X-Robots-Tag:noindex
X-PUBLISHED-TTL:PT1H
BEGIN:VTIMEZONE
TZID:Europe/Zurich
BEGIN:DAYLIGHT
TZOFFSETFROM:+0100
TZOFFSETTO:+0200
TZNAME:CEST
DTSTART:20240331T010000
END:DAYLIGHT
BEGIN:STANDARD
TZOFFSETFROM:+0200
TZOFFSETTO:+0100
TZNAME:CET
DTSTART:20241027T010000
END:STANDARD
BEGIN:DAYLIGHT
TZOFFSETFROM:+0100
TZOFFSETTO:+0200
TZNAME:CEST
DTSTART:20250330T010000
END:DAYLIGHT
BEGIN:STANDARD
TZOFFSETFROM:+0200
TZOFFSETTO:+0100
TZNAME:CET
DTSTART:20251026T010000
END:STANDARD
BEGIN:DAYLIGHT
TZOFFSETFROM:+0100
TZOFFSETTO:+0200
TZNAME:CEST
DTSTART:20260329T010000
END:DAYLIGHT
BEGIN:STANDARD
TZOFFSETFROM:+0200
TZOFFSETTO:+0100
TZNAME:CET
DTSTART:20261025T010000
END:STANDARD
END:VTIMEZONE
BEGIN:VEVENT
DTSTART;TZID=Europe/Zurich:20251002T100000
DTEND;TZID=Europe/Zurich:20251002T100000
DTSTAMP:20260423T164032
CREATED:20241226T130733Z
LAST-MODIFIED:20241226T130733Z
UID:30829-1759399200-1759399200@observatoire-mont-soleil.ch
SUMMARY:Vénus à son périhélie (distance au Soleil = 0.71842 UA)
DESCRIPTION:
URL:https://observatoire-mont-soleil.ch/event/venus-a-son-perihelie-distance-au-soleil-0-71842-ua/
END:VEVENT
BEGIN:VEVENT
DTSTART;TZID=Europe/Zurich:20251002T145900
DTEND;TZID=Europe/Zurich:20251002T145900
DTSTAMP:20260423T164032
CREATED:20241226T130734Z
LAST-MODIFIED:20241226T130734Z
UID:30830-1759417140-1759417140@observatoire-mont-soleil.ch
SUMMARY:Opposition de l'astéroïde 1 Ceres avec le Soleil (dist. au Soleil = 2.939 UA; magn. = 7.6)
DESCRIPTION:
URL:https://observatoire-mont-soleil.ch/event/opposition-de-lasteroide-1-ceres-avec-le-soleil-dist-au-soleil-2-939-ua-magn-7-6/
END:VEVENT
BEGIN:VEVENT
DTSTART;TZID=Europe/Zurich:20251002T235900
DTEND;TZID=Europe/Zurich:20251002T235900
DTSTAMP:20260423T164032
CREATED:20241226T130734Z
LAST-MODIFIED:20241226T130734Z
UID:30831-1759449540-1759449540@observatoire-mont-soleil.ch
SUMMARY:Rapprochement entre Mercure et Spica (dist. topocentrique centre à centre = 1.7°)
DESCRIPTION:
URL:https://observatoire-mont-soleil.ch/event/rapprochement-entre-mercure-et-spica-dist-topocentrique-centre-a-centre-1-7/
END:VEVENT
END:VCALENDAR