BEGIN:VCALENDAR
VERSION:2.0
PRODID:-//Observatoire et Planétarium de Mont-Soleil - ECPv6.15.20//NONSGML v1.0//EN
CALSCALE:GREGORIAN
METHOD:PUBLISH
X-ORIGINAL-URL:https://observatoire-mont-soleil.ch
X-WR-CALDESC:Évènements pour Observatoire et Planétarium de Mont-Soleil
REFRESH-INTERVAL;VALUE=DURATION:PT1H
X-Robots-Tag:noindex
X-PUBLISHED-TTL:PT1H
BEGIN:VTIMEZONE
TZID:Europe/Zurich
BEGIN:DAYLIGHT
TZOFFSETFROM:+0100
TZOFFSETTO:+0200
TZNAME:CEST
DTSTART:20240331T010000
END:DAYLIGHT
BEGIN:STANDARD
TZOFFSETFROM:+0200
TZOFFSETTO:+0100
TZNAME:CET
DTSTART:20241027T010000
END:STANDARD
BEGIN:DAYLIGHT
TZOFFSETFROM:+0100
TZOFFSETTO:+0200
TZNAME:CEST
DTSTART:20250330T010000
END:DAYLIGHT
BEGIN:STANDARD
TZOFFSETFROM:+0200
TZOFFSETTO:+0100
TZNAME:CET
DTSTART:20251026T010000
END:STANDARD
BEGIN:DAYLIGHT
TZOFFSETFROM:+0100
TZOFFSETTO:+0200
TZNAME:CEST
DTSTART:20260329T010000
END:DAYLIGHT
BEGIN:STANDARD
TZOFFSETFROM:+0200
TZOFFSETTO:+0100
TZNAME:CET
DTSTART:20261025T010000
END:STANDARD
END:VTIMEZONE
BEGIN:VEVENT
DTSTART;TZID=Europe/Zurich:20251008T000800
DTEND;TZID=Europe/Zurich:20251008T000800
DTSTAMP:20260424T105907
CREATED:20241226T130751Z
LAST-MODIFIED:20241226T130751Z
UID:30842-1759882080-1759882080@observatoire-mont-soleil.ch
SUMMARY:Transits simultanés sur Jupiter : deux satellites.
DESCRIPTION:
URL:https://observatoire-mont-soleil.ch/event/transits-simultanes-sur-jupiter-deux-satellites-4/
END:VEVENT
BEGIN:VEVENT
DTSTART;TZID=Europe/Zurich:20251008T121300
DTEND;TZID=Europe/Zurich:20251008T121300
DTSTAMP:20260424T105907
CREATED:20241226T130806Z
LAST-MODIFIED:20241226T130806Z
UID:30843-1759925580-1759925580@observatoire-mont-soleil.ch
SUMMARY:Pluie d'étoiles filantes : Draconides (5 météores/heure au zénith; durée = 4.0 jours)
DESCRIPTION:
URL:https://observatoire-mont-soleil.ch/event/pluie-detoiles-filantes-draconides-5-meteores-heure-au-zenith-duree-4-0-jours/
END:VEVENT
BEGIN:VEVENT
DTSTART;TZID=Europe/Zurich:20251008T133500
DTEND;TZID=Europe/Zurich:20251008T133500
DTSTAMP:20260424T105907
CREATED:20241226T130806Z
LAST-MODIFIED:20241226T130806Z
UID:30844-1759930500-1759930500@observatoire-mont-soleil.ch
SUMMARY:Lune au périgée (distance géoc. = 359819 km)
DESCRIPTION:
URL:https://observatoire-mont-soleil.ch/event/lune-au-perigee-distance-geoc-359819-km/
END:VEVENT
END:VCALENDAR