BEGIN:VCALENDAR
VERSION:2.0
PRODID:-//Observatoire et Planétarium de Mont-Soleil - ECPv6.15.20//NONSGML v1.0//EN
CALSCALE:GREGORIAN
METHOD:PUBLISH
X-WR-CALNAME:Observatoire et Planétarium de Mont-Soleil
X-ORIGINAL-URL:https://observatoire-mont-soleil.ch
X-WR-CALDESC:Évènements pour Observatoire et Planétarium de Mont-Soleil
REFRESH-INTERVAL;VALUE=DURATION:PT1H
X-Robots-Tag:noindex
X-PUBLISHED-TTL:PT1H
BEGIN:VTIMEZONE
TZID:Europe/Zurich
BEGIN:DAYLIGHT
TZOFFSETFROM:+0100
TZOFFSETTO:+0200
TZNAME:CEST
DTSTART:20240331T010000
END:DAYLIGHT
BEGIN:STANDARD
TZOFFSETFROM:+0200
TZOFFSETTO:+0100
TZNAME:CET
DTSTART:20241027T010000
END:STANDARD
BEGIN:DAYLIGHT
TZOFFSETFROM:+0100
TZOFFSETTO:+0200
TZNAME:CEST
DTSTART:20250330T010000
END:DAYLIGHT
BEGIN:STANDARD
TZOFFSETFROM:+0200
TZOFFSETTO:+0100
TZNAME:CET
DTSTART:20251026T010000
END:STANDARD
BEGIN:DAYLIGHT
TZOFFSETFROM:+0100
TZOFFSETTO:+0200
TZNAME:CEST
DTSTART:20260329T010000
END:DAYLIGHT
BEGIN:STANDARD
TZOFFSETFROM:+0200
TZOFFSETTO:+0100
TZNAME:CET
DTSTART:20261025T010000
END:STANDARD
END:VTIMEZONE
BEGIN:VEVENT
DTSTART;TZID=Europe/Zurich:20251230T061200
DTEND;TZID=Europe/Zurich:20251230T061200
DTSTAMP:20260423T213637
CREATED:20241226T132334Z
LAST-MODIFIED:20241226T132334Z
UID:31031-1767075120-1767075120@observatoire-mont-soleil.ch
SUMMARY:Minimum de l'étoile variable bêta de la Lyre
DESCRIPTION:
URL:https://observatoire-mont-soleil.ch/event/minimum-de-letoile-variable-beta-de-la-lyre-28/
END:VEVENT
BEGIN:VEVENT
DTSTART;TZID=Europe/Zurich:20251230T193400
DTEND;TZID=Europe/Zurich:20251230T193400
DTSTAMP:20260423T213637
CREATED:20241226T132334Z
LAST-MODIFIED:20241226T132334Z
UID:31032-1767123240-1767123240@observatoire-mont-soleil.ch
SUMMARY:Début de l'occultation de 48-epsilon Ari (magn. = 5.16)
DESCRIPTION:
URL:https://observatoire-mont-soleil.ch/event/debut-de-loccultation-de-48-epsilon-ari-magn-5-16-3/
END:VEVENT
BEGIN:VEVENT
DTSTART;TZID=Europe/Zurich:20251230T194400
DTEND;TZID=Europe/Zurich:20251230T194400
DTSTAMP:20260423T213637
CREATED:20241226T132348Z
LAST-MODIFIED:20241226T132348Z
UID:31033-1767123840-1767123840@observatoire-mont-soleil.ch
SUMMARY:Maximum de l'étoile variable zêta des Gémeaux
DESCRIPTION:
URL:https://observatoire-mont-soleil.ch/event/maximum-de-letoile-variable-zeta-des-gemeaux-36/
END:VEVENT
BEGIN:VEVENT
DTSTART;TZID=Europe/Zurich:20251230T204500
DTEND;TZID=Europe/Zurich:20251230T204500
DTSTAMP:20260423T213637
CREATED:20241226T132348Z
LAST-MODIFIED:20241226T132348Z
UID:31034-1767127500-1767127500@observatoire-mont-soleil.ch
SUMMARY:Fin de l'occultation de 48-epsilon Ari (magn. = 5.16)
DESCRIPTION:
URL:https://observatoire-mont-soleil.ch/event/fin-de-loccultation-de-48-epsilon-ari-magn-5-16-3/
END:VEVENT
END:VCALENDAR