BEGIN:VCALENDAR
VERSION:2.0
PRODID:-//Observatoire et Planétarium de Mont-Soleil - ECPv6.15.20//NONSGML v1.0//EN
CALSCALE:GREGORIAN
METHOD:PUBLISH
X-ORIGINAL-URL:https://observatoire-mont-soleil.ch
X-WR-CALDESC:Évènements pour Observatoire et Planétarium de Mont-Soleil
REFRESH-INTERVAL;VALUE=DURATION:PT1H
X-Robots-Tag:noindex
X-PUBLISHED-TTL:PT1H
BEGIN:VTIMEZONE
TZID:Europe/Zurich
BEGIN:DAYLIGHT
TZOFFSETFROM:+0100
TZOFFSETTO:+0200
TZNAME:CEST
DTSTART:20250330T010000
END:DAYLIGHT
BEGIN:STANDARD
TZOFFSETFROM:+0200
TZOFFSETTO:+0100
TZNAME:CET
DTSTART:20251026T010000
END:STANDARD
BEGIN:DAYLIGHT
TZOFFSETFROM:+0100
TZOFFSETTO:+0200
TZNAME:CEST
DTSTART:20260329T010000
END:DAYLIGHT
BEGIN:STANDARD
TZOFFSETFROM:+0200
TZOFFSETTO:+0100
TZNAME:CET
DTSTART:20261025T010000
END:STANDARD
BEGIN:DAYLIGHT
TZOFFSETFROM:+0100
TZOFFSETTO:+0200
TZNAME:CEST
DTSTART:20270328T010000
END:DAYLIGHT
BEGIN:STANDARD
TZOFFSETFROM:+0200
TZOFFSETTO:+0100
TZNAME:CET
DTSTART:20271031T010000
END:STANDARD
END:VTIMEZONE
BEGIN:VEVENT
DTSTART;TZID=Europe/Zurich:20260101T231300
DTEND;TZID=Europe/Zurich:20260101T231300
DTSTAMP:20260423T213827
CREATED:20260130T164711Z
LAST-MODIFIED:20260130T164711Z
UID:31549-1767309180-1767309180@observatoire-mont-soleil.ch
SUMMARY:Titan (satellite de Saturne) : Fin de l'occultation
DESCRIPTION:
URL:https://observatoire-mont-soleil.ch/event/titan-satellite-de-saturne-fin-de-loccultation-4/
END:VEVENT
BEGIN:VEVENT
DTSTART;TZID=Europe/Zurich:20260101T234300
DTEND;TZID=Europe/Zurich:20260101T234300
DTSTAMP:20260423T213827
CREATED:20260130T164711Z
LAST-MODIFIED:20260130T164711Z
UID:31550-1767310980-1767310980@observatoire-mont-soleil.ch
SUMMARY:Lune au périgée (distance géoc. = 360348 km)
DESCRIPTION:
URL:https://observatoire-mont-soleil.ch/event/lune-au-perigee-distance-geoc-360348-km/
END:VEVENT
END:VCALENDAR