BEGIN:VCALENDAR
VERSION:2.0
PRODID:-//Observatoire et Planétarium de Mont-Soleil - ECPv6.15.20//NONSGML v1.0//EN
CALSCALE:GREGORIAN
METHOD:PUBLISH
X-ORIGINAL-URL:https://observatoire-mont-soleil.ch
X-WR-CALDESC:Évènements pour Observatoire et Planétarium de Mont-Soleil
REFRESH-INTERVAL;VALUE=DURATION:PT1H
X-Robots-Tag:noindex
X-PUBLISHED-TTL:PT1H
BEGIN:VTIMEZONE
TZID:Europe/Zurich
BEGIN:DAYLIGHT
TZOFFSETFROM:+0100
TZOFFSETTO:+0200
TZNAME:CEST
DTSTART:20250330T010000
END:DAYLIGHT
BEGIN:STANDARD
TZOFFSETFROM:+0200
TZOFFSETTO:+0100
TZNAME:CET
DTSTART:20251026T010000
END:STANDARD
BEGIN:DAYLIGHT
TZOFFSETFROM:+0100
TZOFFSETTO:+0200
TZNAME:CEST
DTSTART:20260329T010000
END:DAYLIGHT
BEGIN:STANDARD
TZOFFSETFROM:+0200
TZOFFSETTO:+0100
TZNAME:CET
DTSTART:20261025T010000
END:STANDARD
BEGIN:DAYLIGHT
TZOFFSETFROM:+0100
TZOFFSETTO:+0200
TZNAME:CEST
DTSTART:20270328T010000
END:DAYLIGHT
BEGIN:STANDARD
TZOFFSETFROM:+0200
TZOFFSETTO:+0100
TZNAME:CET
DTSTART:20271031T010000
END:STANDARD
END:VTIMEZONE
BEGIN:VEVENT
DTSTART;TZID=Europe/Zurich:20260104T005200
DTEND;TZID=Europe/Zurich:20260104T005200
DTSTAMP:20260423T213840
CREATED:20260130T164713Z
LAST-MODIFIED:20260130T164713Z
UID:31555-1767487920-1767487920@observatoire-mont-soleil.ch
SUMMARY:Rapprochement entre la Lune et Jupiter (dist. topocentrique centre à centre = 3
DESCRIPTION:
URL:https://observatoire-mont-soleil.ch/event/rapprochement-entre-la-lune-et-jupiter-dist-topocentrique-centre-a-centre-3/
END:VEVENT
BEGIN:VEVENT
DTSTART;TZID=Europe/Zurich:20260104T042500
DTEND;TZID=Europe/Zurich:20260104T042500
DTSTAMP:20260423T213840
CREATED:20260130T164713Z
LAST-MODIFIED:20260130T164713Z
UID:31556-1767500700-1767500700@observatoire-mont-soleil.ch
SUMMARY:Rapprochement entre la Lune et Pollux (dist. topocentrique centre à centre = 3
DESCRIPTION:
URL:https://observatoire-mont-soleil.ch/event/rapprochement-entre-la-lune-et-pollux-dist-topocentrique-centre-a-centre-3-2/
END:VEVENT
BEGIN:VEVENT
DTSTART;TZID=Europe/Zurich:20260104T061500
DTEND;TZID=Europe/Zurich:20260104T061500
DTSTAMP:20260423T213840
CREATED:20260130T164713Z
LAST-MODIFIED:20260130T164713Z
UID:31557-1767507300-1767507300@observatoire-mont-soleil.ch
SUMMARY:Début de l'occultation de 77-kappa Gem (magn. = 3
DESCRIPTION:
URL:https://observatoire-mont-soleil.ch/event/debut-de-loccultation-de-77-kappa-gem-magn-3-2/
END:VEVENT
BEGIN:VEVENT
DTSTART;TZID=Europe/Zurich:20260104T065100
DTEND;TZID=Europe/Zurich:20260104T065100
DTSTAMP:20260423T213840
CREATED:20260130T164713Z
LAST-MODIFIED:20260130T164713Z
UID:31558-1767509460-1767509460@observatoire-mont-soleil.ch
SUMMARY:Maximum de l'étoile variable delta de Céphée
DESCRIPTION:
URL:https://observatoire-mont-soleil.ch/event/maximum-de-letoile-variable-delta-de-cephee-86/
END:VEVENT
BEGIN:VEVENT
DTSTART;TZID=Europe/Zurich:20260104T100600
DTEND;TZID=Europe/Zurich:20260104T100600
DTSTAMP:20260423T213840
CREATED:20260130T164801Z
LAST-MODIFIED:20260130T164801Z
UID:31559-1767521160-1767521160@observatoire-mont-soleil.ch
SUMMARY:Minimum de l'étoile variable Algol (bêta de Persée)
DESCRIPTION:
URL:https://observatoire-mont-soleil.ch/event/minimum-de-letoile-variable-algol-beta-de-persee-160/
END:VEVENT
END:VCALENDAR