BEGIN:VCALENDAR
VERSION:2.0
PRODID:-//Observatoire et Planétarium de Mont-Soleil - ECPv6.15.20//NONSGML v1.0//EN
CALSCALE:GREGORIAN
METHOD:PUBLISH
X-ORIGINAL-URL:https://observatoire-mont-soleil.ch
X-WR-CALDESC:Évènements pour Observatoire et Planétarium de Mont-Soleil
REFRESH-INTERVAL;VALUE=DURATION:PT1H
X-Robots-Tag:noindex
X-PUBLISHED-TTL:PT1H
BEGIN:VTIMEZONE
TZID:Europe/Zurich
BEGIN:DAYLIGHT
TZOFFSETFROM:+0100
TZOFFSETTO:+0200
TZNAME:CEST
DTSTART:20250330T010000
END:DAYLIGHT
BEGIN:STANDARD
TZOFFSETFROM:+0200
TZOFFSETTO:+0100
TZNAME:CET
DTSTART:20251026T010000
END:STANDARD
BEGIN:DAYLIGHT
TZOFFSETFROM:+0100
TZOFFSETTO:+0200
TZNAME:CEST
DTSTART:20260329T010000
END:DAYLIGHT
BEGIN:STANDARD
TZOFFSETFROM:+0200
TZOFFSETTO:+0100
TZNAME:CET
DTSTART:20261025T010000
END:STANDARD
BEGIN:DAYLIGHT
TZOFFSETFROM:+0100
TZOFFSETTO:+0200
TZNAME:CEST
DTSTART:20270328T010000
END:DAYLIGHT
BEGIN:STANDARD
TZOFFSETFROM:+0200
TZOFFSETTO:+0100
TZNAME:CET
DTSTART:20271031T010000
END:STANDARD
END:VTIMEZONE
BEGIN:VEVENT
DTSTART;TZID=Europe/Zurich:20260109T134100
DTEND;TZID=Europe/Zurich:20260109T134100
DTSTAMP:20260423T214010
CREATED:20260130T164815Z
LAST-MODIFIED:20260130T164815Z
UID:31566-1767966060-1767966060@observatoire-mont-soleil.ch
SUMMARY:CONJONCTION entre Mars et le Soleil (dist. géoc. centre à centre = 0
DESCRIPTION:
URL:https://observatoire-mont-soleil.ch/event/conjonction-entre-mars-et-le-soleil-dist-geoc-centre-a-centre-0/
END:VEVENT
BEGIN:VEVENT
DTSTART;TZID=Europe/Zurich:20260109T153900
DTEND;TZID=Europe/Zurich:20260109T153900
DTSTAMP:20260423T214010
CREATED:20260130T164815Z
LAST-MODIFIED:20260130T164815Z
UID:31567-1767973140-1767973140@observatoire-mont-soleil.ch
SUMMARY:Maximum de l'étoile variable delta de Céphée
DESCRIPTION:
URL:https://observatoire-mont-soleil.ch/event/maximum-de-letoile-variable-delta-de-cephee-87/
END:VEVENT
BEGIN:VEVENT
DTSTART;TZID=Europe/Zurich:20260109T190300
DTEND;TZID=Europe/Zurich:20260109T190300
DTSTAMP:20260423T214010
CREATED:20260130T164815Z
LAST-MODIFIED:20260130T164815Z
UID:31568-1767985380-1767985380@observatoire-mont-soleil.ch
SUMMARY:Titan (satellite de Saturne) : Début du passage
DESCRIPTION:
URL:https://observatoire-mont-soleil.ch/event/titan-satellite-de-saturne-debut-du-passage-8/
END:VEVENT
BEGIN:VEVENT
DTSTART;TZID=Europe/Zurich:20260109T213400
DTEND;TZID=Europe/Zurich:20260109T213400
DTSTAMP:20260423T214010
CREATED:20260130T164818Z
LAST-MODIFIED:20260130T164818Z
UID:31569-1767994440-1767994440@observatoire-mont-soleil.ch
SUMMARY:Titan (satellite de Saturne) : Passage au méridien central
DESCRIPTION:
URL:https://observatoire-mont-soleil.ch/event/titan-satellite-de-saturne-passage-au-meridien-central-6/
END:VEVENT
END:VCALENDAR