BEGIN:VCALENDAR
VERSION:2.0
PRODID:-//Observatoire et Planétarium de Mont-Soleil - ECPv6.15.20//NONSGML v1.0//EN
CALSCALE:GREGORIAN
METHOD:PUBLISH
X-WR-CALNAME:Observatoire et Planétarium de Mont-Soleil
X-ORIGINAL-URL:https://observatoire-mont-soleil.ch
X-WR-CALDESC:Évènements pour Observatoire et Planétarium de Mont-Soleil
REFRESH-INTERVAL;VALUE=DURATION:PT1H
X-Robots-Tag:noindex
X-PUBLISHED-TTL:PT1H
BEGIN:VTIMEZONE
TZID:Europe/Zurich
BEGIN:DAYLIGHT
TZOFFSETFROM:+0100
TZOFFSETTO:+0200
TZNAME:CEST
DTSTART:20250330T010000
END:DAYLIGHT
BEGIN:STANDARD
TZOFFSETFROM:+0200
TZOFFSETTO:+0100
TZNAME:CET
DTSTART:20251026T010000
END:STANDARD
BEGIN:DAYLIGHT
TZOFFSETFROM:+0100
TZOFFSETTO:+0200
TZNAME:CEST
DTSTART:20260329T010000
END:DAYLIGHT
BEGIN:STANDARD
TZOFFSETFROM:+0200
TZOFFSETTO:+0100
TZNAME:CET
DTSTART:20261025T010000
END:STANDARD
BEGIN:DAYLIGHT
TZOFFSETFROM:+0100
TZOFFSETTO:+0200
TZNAME:CEST
DTSTART:20270328T010000
END:DAYLIGHT
BEGIN:STANDARD
TZOFFSETFROM:+0200
TZOFFSETTO:+0100
TZNAME:CET
DTSTART:20271031T010000
END:STANDARD
END:VTIMEZONE
BEGIN:VEVENT
DTSTART;TZID=Europe/Zurich:20260224T024000
DTEND;TZID=Europe/Zurich:20260224T024000
DTSTAMP:20260424T005722
CREATED:20260130T163614Z
LAST-MODIFIED:20260130T163614Z
UID:31476-1771900800-1771900800@observatoire-mont-soleil.ch
SUMMARY:Rapprochement entre la Lune et Uranus (dist. topocentrique centre à centre = 4
DESCRIPTION:
URL:https://observatoire-mont-soleil.ch/event/rapprochement-entre-la-lune-et-uranus-dist-topocentrique-centre-a-centre-4/
END:VEVENT
BEGIN:VEVENT
DTSTART;TZID=Europe/Zurich:20260224T081800
DTEND;TZID=Europe/Zurich:20260224T081800
DTSTAMP:20260424T005722
CREATED:20260130T163614Z
LAST-MODIFIED:20260130T163614Z
UID:31477-1771921080-1771921080@observatoire-mont-soleil.ch
SUMMARY:Maximum de l'étoile variable êta de l'Aigle
DESCRIPTION:
URL:https://observatoire-mont-soleil.ch/event/maximum-de-letoile-variable-eta-de-laigle-59/
END:VEVENT
BEGIN:VEVENT
DTSTART;TZID=Europe/Zurich:20260224T142800
DTEND;TZID=Europe/Zurich:20260224T142800
DTSTAMP:20260424T005722
CREATED:20260130T163614Z
LAST-MODIFIED:20260130T163614Z
UID:31478-1771943280-1771943280@observatoire-mont-soleil.ch
SUMMARY:PREMIER QUARTIER DE LA LUNE
DESCRIPTION:
URL:https://observatoire-mont-soleil.ch/event/premier-quartier-de-la-lune-15/
END:VEVENT
END:VCALENDAR