BEGIN:VCALENDAR
VERSION:2.0
PRODID:-//Observatoire et Planétarium de Mont-Soleil - ECPv6.15.20//NONSGML v1.0//EN
CALSCALE:GREGORIAN
METHOD:PUBLISH
X-ORIGINAL-URL:https://observatoire-mont-soleil.ch
X-WR-CALDESC:Évènements pour Observatoire et Planétarium de Mont-Soleil
REFRESH-INTERVAL;VALUE=DURATION:PT1H
X-Robots-Tag:noindex
X-PUBLISHED-TTL:PT1H
BEGIN:VTIMEZONE
TZID:Europe/Zurich
BEGIN:DAYLIGHT
TZOFFSETFROM:+0100
TZOFFSETTO:+0200
TZNAME:CEST
DTSTART:20250330T010000
END:DAYLIGHT
BEGIN:STANDARD
TZOFFSETFROM:+0200
TZOFFSETTO:+0100
TZNAME:CET
DTSTART:20251026T010000
END:STANDARD
BEGIN:DAYLIGHT
TZOFFSETFROM:+0100
TZOFFSETTO:+0200
TZNAME:CEST
DTSTART:20260329T010000
END:DAYLIGHT
BEGIN:STANDARD
TZOFFSETFROM:+0200
TZOFFSETTO:+0100
TZNAME:CET
DTSTART:20261025T010000
END:STANDARD
BEGIN:DAYLIGHT
TZOFFSETFROM:+0100
TZOFFSETTO:+0200
TZNAME:CEST
DTSTART:20270328T010000
END:DAYLIGHT
BEGIN:STANDARD
TZOFFSETFROM:+0200
TZOFFSETTO:+0100
TZNAME:CET
DTSTART:20271031T010000
END:STANDARD
END:VTIMEZONE
BEGIN:VEVENT
DTSTART;TZID=Europe/Zurich:20260227T172700
DTEND;TZID=Europe/Zurich:20260227T172700
DTSTAMP:20260424T025401
CREATED:20260130T163629Z
LAST-MODIFIED:20260130T163629Z
UID:31483-1772213220-1772213220@observatoire-mont-soleil.ch
SUMMARY:Opposition de l'astéroïde 7 Iris avec le Soleil (dist. au Soleil = 2
DESCRIPTION:
URL:https://observatoire-mont-soleil.ch/event/opposition-de-lasteroide-7-iris-avec-le-soleil-dist-au-soleil-2/
END:VEVENT
BEGIN:VEVENT
DTSTART;TZID=Europe/Zurich:20260227T214300
DTEND;TZID=Europe/Zurich:20260227T214300
DTSTAMP:20260424T025401
CREATED:20260130T163643Z
LAST-MODIFIED:20260130T163643Z
UID:31484-1772228580-1772228580@observatoire-mont-soleil.ch
SUMMARY:Minimum de l'étoile variable Algol (bêta de Persée)
DESCRIPTION:
URL:https://observatoire-mont-soleil.ch/event/minimum-de-letoile-variable-algol-beta-de-persee-148/
END:VEVENT
BEGIN:VEVENT
DTSTART;TZID=Europe/Zurich:20260227T221500
DTEND;TZID=Europe/Zurich:20260227T221500
DTSTAMP:20260424T025401
CREATED:20260130T163644Z
LAST-MODIFIED:20260130T163644Z
UID:31485-1772230500-1772230500@observatoire-mont-soleil.ch
SUMMARY:Rapprochement entre la Lune et Pollux (dist. topocentrique centre à centre = 3
DESCRIPTION:
URL:https://observatoire-mont-soleil.ch/event/rapprochement-entre-la-lune-et-pollux-dist-topocentrique-centre-a-centre-3/
END:VEVENT
END:VCALENDAR