BEGIN:VCALENDAR
VERSION:2.0
PRODID:-//Observatoire et Planétarium de Mont-Soleil - ECPv6.15.20//NONSGML v1.0//EN
CALSCALE:GREGORIAN
METHOD:PUBLISH
X-WR-CALNAME:Observatoire et Planétarium de Mont-Soleil
X-ORIGINAL-URL:https://observatoire-mont-soleil.ch
X-WR-CALDESC:Évènements pour Observatoire et Planétarium de Mont-Soleil
REFRESH-INTERVAL;VALUE=DURATION:PT1H
X-Robots-Tag:noindex
X-PUBLISHED-TTL:PT1H
BEGIN:VTIMEZONE
TZID:Europe/Zurich
BEGIN:DAYLIGHT
TZOFFSETFROM:+0100
TZOFFSETTO:+0200
TZNAME:CEST
DTSTART:20250330T010000
END:DAYLIGHT
BEGIN:STANDARD
TZOFFSETFROM:+0200
TZOFFSETTO:+0100
TZNAME:CET
DTSTART:20251026T010000
END:STANDARD
BEGIN:DAYLIGHT
TZOFFSETFROM:+0100
TZOFFSETTO:+0200
TZNAME:CEST
DTSTART:20260329T010000
END:DAYLIGHT
BEGIN:STANDARD
TZOFFSETFROM:+0200
TZOFFSETTO:+0100
TZNAME:CET
DTSTART:20261025T010000
END:STANDARD
BEGIN:DAYLIGHT
TZOFFSETFROM:+0100
TZOFFSETTO:+0200
TZNAME:CEST
DTSTART:20270328T010000
END:DAYLIGHT
BEGIN:STANDARD
TZOFFSETFROM:+0200
TZOFFSETTO:+0100
TZNAME:CET
DTSTART:20271031T010000
END:STANDARD
END:VTIMEZONE
BEGIN:VEVENT
DTSTART;TZID=Europe/Zurich:20260228T000400
DTEND;TZID=Europe/Zurich:20260228T000400
DTSTAMP:20260424T044258
CREATED:20260130T163644Z
LAST-MODIFIED:20260130T163644Z
UID:31486-1772237040-1772237040@observatoire-mont-soleil.ch
SUMMARY:Début de l'occultation de 77-kappa Gem (magn. = 3
DESCRIPTION:
URL:https://observatoire-mont-soleil.ch/event/debut-de-loccultation-de-77-kappa-gem-magn-3/
END:VEVENT
BEGIN:VEVENT
DTSTART;TZID=Europe/Zurich:20260228T005400
DTEND;TZID=Europe/Zurich:20260228T005400
DTSTAMP:20260424T044258
CREATED:20260130T163644Z
LAST-MODIFIED:20260130T163644Z
UID:31487-1772240040-1772240040@observatoire-mont-soleil.ch
SUMMARY:Fin de l'occultation de 77-kappa Gem (magn. = 3
DESCRIPTION:
URL:https://observatoire-mont-soleil.ch/event/fin-de-loccultation-de-77-kappa-gem-magn-3/
END:VEVENT
BEGIN:VEVENT
DTSTART;TZID=Europe/Zurich:20260228T054600
DTEND;TZID=Europe/Zurich:20260228T054600
DTSTAMP:20260424T044258
CREATED:20260130T163644Z
LAST-MODIFIED:20260130T163644Z
UID:31488-1772257560-1772257560@observatoire-mont-soleil.ch
SUMMARY:Rapprochement entre Mercure et Vénus (dist. topocentrique centre à centre = 4
DESCRIPTION:
URL:https://observatoire-mont-soleil.ch/event/rapprochement-entre-mercure-et-venus-dist-topocentrique-centre-a-centre-4/
END:VEVENT
BEGIN:VEVENT
DTSTART;TZID=Europe/Zurich:20260228T231600
DTEND;TZID=Europe/Zurich:20260228T231600
DTSTAMP:20260424T044258
CREATED:20260130T163658Z
LAST-MODIFIED:20260130T163658Z
UID:31489-1772320560-1772320560@observatoire-mont-soleil.ch
SUMMARY:Rapprochement entre la Lune et M 44 (dist. topocentrique centre à centre = 0
DESCRIPTION:
URL:https://observatoire-mont-soleil.ch/event/rapprochement-entre-la-lune-et-m-44-dist-topocentrique-centre-a-centre-0/
END:VEVENT
END:VCALENDAR