BEGIN:VCALENDAR
VERSION:2.0
PRODID:-//Observatoire et Planétarium de Mont-Soleil - ECPv6.15.20//NONSGML v1.0//EN
CALSCALE:GREGORIAN
METHOD:PUBLISH
X-ORIGINAL-URL:https://observatoire-mont-soleil.ch
X-WR-CALDESC:Évènements pour Observatoire et Planétarium de Mont-Soleil
REFRESH-INTERVAL;VALUE=DURATION:PT1H
X-Robots-Tag:noindex
X-PUBLISHED-TTL:PT1H
BEGIN:VTIMEZONE
TZID:Europe/Zurich
BEGIN:DAYLIGHT
TZOFFSETFROM:+0100
TZOFFSETTO:+0200
TZNAME:CEST
DTSTART:20250330T010000
END:DAYLIGHT
BEGIN:STANDARD
TZOFFSETFROM:+0200
TZOFFSETTO:+0100
TZNAME:CET
DTSTART:20251026T010000
END:STANDARD
BEGIN:DAYLIGHT
TZOFFSETFROM:+0100
TZOFFSETTO:+0200
TZNAME:CEST
DTSTART:20260329T010000
END:DAYLIGHT
BEGIN:STANDARD
TZOFFSETFROM:+0200
TZOFFSETTO:+0100
TZNAME:CET
DTSTART:20261025T010000
END:STANDARD
BEGIN:DAYLIGHT
TZOFFSETFROM:+0100
TZOFFSETTO:+0200
TZNAME:CEST
DTSTART:20270328T010000
END:DAYLIGHT
BEGIN:STANDARD
TZOFFSETFROM:+0200
TZOFFSETTO:+0100
TZNAME:CET
DTSTART:20271031T010000
END:STANDARD
END:VTIMEZONE
BEGIN:VEVENT
DTSTART;TZID=Europe/Zurich:20260302T041400
DTEND;TZID=Europe/Zurich:20260302T041400
DTSTAMP:20260424T062536
CREATED:20260130T164033Z
LAST-MODIFIED:20260130T164033Z
UID:31493-1772424840-1772424840@observatoire-mont-soleil.ch
SUMMARY:Début de l'occultation de 16-psi Leo (magn. = 5
DESCRIPTION:
URL:https://observatoire-mont-soleil.ch/event/debut-de-loccultation-de-16-psi-leo-magn-5/
END:VEVENT
BEGIN:VEVENT
DTSTART;TZID=Europe/Zurich:20260302T043000
DTEND;TZID=Europe/Zurich:20260302T043000
DTSTAMP:20260424T062536
CREATED:20260130T164033Z
LAST-MODIFIED:20260130T164033Z
UID:31494-1772425800-1772425800@observatoire-mont-soleil.ch
SUMMARY:Fin de l'occultation de 16-psi Leo (magn. = 5
DESCRIPTION:
URL:https://observatoire-mont-soleil.ch/event/fin-de-loccultation-de-16-psi-leo-magn-5/
END:VEVENT
BEGIN:VEVENT
DTSTART;TZID=Europe/Zurich:20260302T183300
DTEND;TZID=Europe/Zurich:20260302T183300
DTSTAMP:20260424T062536
CREATED:20260130T164033Z
LAST-MODIFIED:20260130T164033Z
UID:31495-1772476380-1772476380@observatoire-mont-soleil.ch
SUMMARY:Minimum de l'étoile variable Algol (bêta de Persée)
DESCRIPTION:
URL:https://observatoire-mont-soleil.ch/event/minimum-de-letoile-variable-algol-beta-de-persee-149/
END:VEVENT
END:VCALENDAR