BEGIN:VCALENDAR
VERSION:2.0
PRODID:-//Observatoire et Planétarium de Mont-Soleil - ECPv6.15.20//NONSGML v1.0//EN
CALSCALE:GREGORIAN
METHOD:PUBLISH
X-ORIGINAL-URL:https://observatoire-mont-soleil.ch
X-WR-CALDESC:Évènements pour Observatoire et Planétarium de Mont-Soleil
REFRESH-INTERVAL;VALUE=DURATION:PT1H
X-Robots-Tag:noindex
X-PUBLISHED-TTL:PT1H
BEGIN:VTIMEZONE
TZID:Europe/Zurich
BEGIN:DAYLIGHT
TZOFFSETFROM:+0100
TZOFFSETTO:+0200
TZNAME:CEST
DTSTART:20250330T010000
END:DAYLIGHT
BEGIN:STANDARD
TZOFFSETFROM:+0200
TZOFFSETTO:+0100
TZNAME:CET
DTSTART:20251026T010000
END:STANDARD
BEGIN:DAYLIGHT
TZOFFSETFROM:+0100
TZOFFSETTO:+0200
TZNAME:CEST
DTSTART:20260329T010000
END:DAYLIGHT
BEGIN:STANDARD
TZOFFSETFROM:+0200
TZOFFSETTO:+0100
TZNAME:CET
DTSTART:20261025T010000
END:STANDARD
BEGIN:DAYLIGHT
TZOFFSETFROM:+0100
TZOFFSETTO:+0200
TZNAME:CEST
DTSTART:20270328T010000
END:DAYLIGHT
BEGIN:STANDARD
TZOFFSETFROM:+0200
TZOFFSETTO:+0100
TZNAME:CET
DTSTART:20271031T010000
END:STANDARD
END:VTIMEZONE
BEGIN:VEVENT
DTSTART;TZID=Europe/Zurich:20260317T024000
DTEND;TZID=Europe/Zurich:20260317T024000
DTSTAMP:20260425T144526
CREATED:20260130T164351Z
LAST-MODIFIED:20260130T164351Z
UID:31517-1773715200-1773715200@observatoire-mont-soleil.ch
SUMMARY:Minimum de l'étoile variable Algol (bêta de Persée)
DESCRIPTION:
URL:https://observatoire-mont-soleil.ch/event/minimum-de-letoile-variable-algol-beta-de-persee-154/
END:VEVENT
BEGIN:VEVENT
DTSTART;TZID=Europe/Zurich:20260317T205900
DTEND;TZID=Europe/Zurich:20260317T205900
DTSTAMP:20260425T144526
CREATED:20260130T164351Z
LAST-MODIFIED:20260130T164351Z
UID:31518-1773781140-1773781140@observatoire-mont-soleil.ch
SUMMARY:Maximum de l'étoile variable êta de l'Aigle
DESCRIPTION:
URL:https://observatoire-mont-soleil.ch/event/maximum-de-letoile-variable-eta-de-laigle-62/
END:VEVENT
BEGIN:VEVENT
DTSTART;TZID=Europe/Zurich:20260317T214700
DTEND;TZID=Europe/Zurich:20260317T214700
DTSTAMP:20260425T144526
CREATED:20260130T164351Z
LAST-MODIFIED:20260130T164351Z
UID:31519-1773784020-1773784020@observatoire-mont-soleil.ch
SUMMARY:Transits simultanés sur Jupiter : deux satellites.
DESCRIPTION:
URL:https://observatoire-mont-soleil.ch/event/transits-simultanes-sur-jupiter-deux-satellites-8/
END:VEVENT
BEGIN:VEVENT
DTSTART;TZID=Europe/Zurich:20260317T225900
DTEND;TZID=Europe/Zurich:20260317T225900
DTSTAMP:20260425T144526
CREATED:20260130T164352Z
LAST-MODIFIED:20260130T164352Z
UID:31520-1773788340-1773788340@observatoire-mont-soleil.ch
SUMMARY:Transits simultanés sur Jupiter : deux satellites et une ombre de satellite.
DESCRIPTION:
URL:https://observatoire-mont-soleil.ch/event/transits-simultanes-sur-jupiter-deux-satellites-et-une-ombre-de-satellite-7/
END:VEVENT
BEGIN:VEVENT
DTSTART;TZID=Europe/Zurich:20260317T230700
DTEND;TZID=Europe/Zurich:20260317T230700
DTSTAMP:20260425T144526
CREATED:20260130T164352Z
LAST-MODIFIED:20260130T164352Z
UID:31521-1773788820-1773788820@observatoire-mont-soleil.ch
SUMMARY:Minimum de l'étoile variable bêta de la Lyre
DESCRIPTION:
URL:https://observatoire-mont-soleil.ch/event/minimum-de-letoile-variable-beta-de-la-lyre-34/
END:VEVENT
END:VCALENDAR