BEGIN:VCALENDAR
VERSION:2.0
PRODID:-//Observatoire et Planétarium de Mont-Soleil - ECPv6.15.20//NONSGML v1.0//EN
CALSCALE:GREGORIAN
METHOD:PUBLISH
X-ORIGINAL-URL:https://observatoire-mont-soleil.ch
X-WR-CALDESC:Évènements pour Observatoire et Planétarium de Mont-Soleil
REFRESH-INTERVAL;VALUE=DURATION:PT1H
X-Robots-Tag:noindex
X-PUBLISHED-TTL:PT1H
BEGIN:VTIMEZONE
TZID:Europe/Zurich
BEGIN:DAYLIGHT
TZOFFSETFROM:+0100
TZOFFSETTO:+0200
TZNAME:CEST
DTSTART:20250330T010000
END:DAYLIGHT
BEGIN:STANDARD
TZOFFSETFROM:+0200
TZOFFSETTO:+0100
TZNAME:CET
DTSTART:20251026T010000
END:STANDARD
BEGIN:DAYLIGHT
TZOFFSETFROM:+0100
TZOFFSETTO:+0200
TZNAME:CEST
DTSTART:20260329T010000
END:DAYLIGHT
BEGIN:STANDARD
TZOFFSETFROM:+0200
TZOFFSETTO:+0100
TZNAME:CET
DTSTART:20261025T010000
END:STANDARD
BEGIN:DAYLIGHT
TZOFFSETFROM:+0100
TZOFFSETTO:+0200
TZNAME:CEST
DTSTART:20270328T010000
END:DAYLIGHT
BEGIN:STANDARD
TZOFFSETFROM:+0200
TZOFFSETTO:+0100
TZNAME:CET
DTSTART:20271031T010000
END:STANDARD
END:VTIMEZONE
BEGIN:VEVENT
DTSTART;TZID=Europe/Zurich:20260322T013500
DTEND;TZID=Europe/Zurich:20260322T013500
DTSTAMP:20260425T144538
CREATED:20260130T164421Z
LAST-MODIFIED:20260130T164421Z
UID:31528-1774143300-1774143300@observatoire-mont-soleil.ch
SUMMARY:Maximum de l'étoile variable zêta des Gémeaux
DESCRIPTION:
URL:https://observatoire-mont-soleil.ch/event/maximum-de-letoile-variable-zeta-des-gemeaux-44/
END:VEVENT
BEGIN:VEVENT
DTSTART;TZID=Europe/Zurich:20260322T132000
DTEND;TZID=Europe/Zurich:20260322T132000
DTSTAMP:20260425T144538
CREATED:20260130T164421Z
LAST-MODIFIED:20260130T164421Z
UID:31529-1774185600-1774185600@observatoire-mont-soleil.ch
SUMMARY:CONJONCTION entre Neptune et le Soleil (dist. géoc. centre à centre = 1
DESCRIPTION:
URL:https://observatoire-mont-soleil.ch/event/conjonction-entre-neptune-et-le-soleil-dist-geoc-centre-a-centre-1/
END:VEVENT
BEGIN:VEVENT
DTSTART;TZID=Europe/Zurich:20260322T134000
DTEND;TZID=Europe/Zurich:20260322T134000
DTSTAMP:20260425T144538
CREATED:20260130T164422Z
LAST-MODIFIED:20260130T164422Z
UID:31530-1774186800-1774186800@observatoire-mont-soleil.ch
SUMMARY:Lune au périgée (distance géoc. = 366857 km)
DESCRIPTION:
URL:https://observatoire-mont-soleil.ch/event/lune-au-perigee-distance-geoc-366857-km/
END:VEVENT
BEGIN:VEVENT
DTSTART;TZID=Europe/Zurich:20260322T201800
DTEND;TZID=Europe/Zurich:20260322T201800
DTSTAMP:20260425T144538
CREATED:20260130T164422Z
LAST-MODIFIED:20260130T164422Z
UID:31531-1774210680-1774210680@observatoire-mont-soleil.ch
SUMMARY:Minimum de l'étoile variable Algol (bêta de Persée)
DESCRIPTION:
URL:https://observatoire-mont-soleil.ch/event/minimum-de-letoile-variable-algol-beta-de-persee-156/
END:VEVENT
END:VCALENDAR