BEGIN:VCALENDAR
VERSION:2.0
PRODID:-//Observatoire et Planétarium de Mont-Soleil - ECPv6.15.20//NONSGML v1.0//EN
CALSCALE:GREGORIAN
METHOD:PUBLISH
X-WR-CALNAME:Observatoire et Planétarium de Mont-Soleil
X-ORIGINAL-URL:https://observatoire-mont-soleil.ch
X-WR-CALDESC:Évènements pour Observatoire et Planétarium de Mont-Soleil
REFRESH-INTERVAL;VALUE=DURATION:PT1H
X-Robots-Tag:noindex
X-PUBLISHED-TTL:PT1H
BEGIN:VTIMEZONE
TZID:Europe/Zurich
BEGIN:DAYLIGHT
TZOFFSETFROM:+0100
TZOFFSETTO:+0200
TZNAME:CEST
DTSTART:20250330T010000
END:DAYLIGHT
BEGIN:STANDARD
TZOFFSETFROM:+0200
TZOFFSETTO:+0100
TZNAME:CET
DTSTART:20251026T010000
END:STANDARD
BEGIN:DAYLIGHT
TZOFFSETFROM:+0100
TZOFFSETTO:+0200
TZNAME:CEST
DTSTART:20260329T010000
END:DAYLIGHT
BEGIN:STANDARD
TZOFFSETFROM:+0200
TZOFFSETTO:+0100
TZNAME:CET
DTSTART:20261025T010000
END:STANDARD
BEGIN:DAYLIGHT
TZOFFSETFROM:+0100
TZOFFSETTO:+0200
TZNAME:CEST
DTSTART:20270328T010000
END:DAYLIGHT
BEGIN:STANDARD
TZOFFSETFROM:+0200
TZOFFSETTO:+0100
TZNAME:CET
DTSTART:20271031T010000
END:STANDARD
END:VTIMEZONE
BEGIN:VEVENT
DTSTART;TZID=Europe/Zurich:20260325T011300
DTEND;TZID=Europe/Zurich:20260325T011300
DTSTAMP:20260425T162650
CREATED:20260130T164503Z
LAST-MODIFIED:20260130T164503Z
UID:31532-1774401180-1774401180@observatoire-mont-soleil.ch
SUMMARY:Maximum de l'étoile variable êta de l'Aigle
DESCRIPTION:
URL:https://observatoire-mont-soleil.ch/event/maximum-de-letoile-variable-eta-de-laigle-63/
END:VEVENT
BEGIN:VEVENT
DTSTART;TZID=Europe/Zurich:20260325T105600
DTEND;TZID=Europe/Zurich:20260325T105600
DTSTAMP:20260425T162650
CREATED:20260130T164504Z
LAST-MODIFIED:20260130T164504Z
UID:31533-1774436160-1774436160@observatoire-mont-soleil.ch
SUMMARY:CONJONCTION entre Saturne et le Soleil (dist. géoc. centre à centre = 2
DESCRIPTION:
URL:https://observatoire-mont-soleil.ch/event/conjonction-entre-saturne-et-le-soleil-dist-geoc-centre-a-centre-2/
END:VEVENT
BEGIN:VEVENT
DTSTART;TZID=Europe/Zurich:20260325T124400
DTEND;TZID=Europe/Zurich:20260325T124400
DTSTAMP:20260425T162650
CREATED:20260130T164504Z
LAST-MODIFIED:20260130T164504Z
UID:31534-1774442640-1774442640@observatoire-mont-soleil.ch
SUMMARY:Opposition de l'astéroïde 15 Eunomia avec le Soleil (dist. au Soleil = 3
DESCRIPTION:
URL:https://observatoire-mont-soleil.ch/event/opposition-de-lasteroide-15-eunomia-avec-le-soleil-dist-au-soleil-3/
END:VEVENT
BEGIN:VEVENT
DTSTART;TZID=Europe/Zurich:20260325T170700
DTEND;TZID=Europe/Zurich:20260325T170700
DTSTAMP:20260425T162650
CREATED:20260130T164504Z
LAST-MODIFIED:20260130T164504Z
UID:31535-1774458420-1774458420@observatoire-mont-soleil.ch
SUMMARY:Minimum de l'étoile variable Algol (bêta de Persée)
DESCRIPTION:
URL:https://observatoire-mont-soleil.ch/event/minimum-de-letoile-variable-algol-beta-de-persee-157/
END:VEVENT
BEGIN:VEVENT
DTSTART;TZID=Europe/Zurich:20260325T184700
DTEND;TZID=Europe/Zurich:20260325T184700
DTSTAMP:20260425T162650
CREATED:20260130T164504Z
LAST-MODIFIED:20260130T164504Z
UID:31536-1774464420-1774464420@observatoire-mont-soleil.ch
SUMMARY:Maximum de l'étoile variable delta de Céphée
DESCRIPTION:
URL:https://observatoire-mont-soleil.ch/event/maximum-de-letoile-variable-delta-de-cephee-84/
END:VEVENT
BEGIN:VEVENT
DTSTART;TZID=Europe/Zurich:20260325T211800
DTEND;TZID=Europe/Zurich:20260325T211800
DTSTAMP:20260425T162650
CREATED:20260130T164518Z
LAST-MODIFIED:20260130T164518Z
UID:31537-1774473480-1774473480@observatoire-mont-soleil.ch
SUMMARY:PREMIER QUARTIER DE LA LUNE
DESCRIPTION:
URL:https://observatoire-mont-soleil.ch/event/premier-quartier-de-la-lune-16/
END:VEVENT
END:VCALENDAR