BEGIN:VCALENDAR
VERSION:2.0
PRODID:-//Observatoire et Planétarium de Mont-Soleil - ECPv6.15.20//NONSGML v1.0//EN
CALSCALE:GREGORIAN
METHOD:PUBLISH
X-ORIGINAL-URL:https://observatoire-mont-soleil.ch
X-WR-CALDESC:Évènements pour Observatoire et Planétarium de Mont-Soleil
REFRESH-INTERVAL;VALUE=DURATION:PT1H
X-Robots-Tag:noindex
X-PUBLISHED-TTL:PT1H
BEGIN:VTIMEZONE
TZID:Europe/Zurich
BEGIN:DAYLIGHT
TZOFFSETFROM:+0100
TZOFFSETTO:+0200
TZNAME:CEST
DTSTART:20250330T010000
END:DAYLIGHT
BEGIN:STANDARD
TZOFFSETFROM:+0200
TZOFFSETTO:+0100
TZNAME:CET
DTSTART:20251026T010000
END:STANDARD
BEGIN:DAYLIGHT
TZOFFSETFROM:+0100
TZOFFSETTO:+0200
TZNAME:CEST
DTSTART:20260329T010000
END:DAYLIGHT
BEGIN:STANDARD
TZOFFSETFROM:+0200
TZOFFSETTO:+0100
TZNAME:CET
DTSTART:20261025T010000
END:STANDARD
BEGIN:DAYLIGHT
TZOFFSETFROM:+0100
TZOFFSETTO:+0200
TZNAME:CEST
DTSTART:20270328T010000
END:DAYLIGHT
BEGIN:STANDARD
TZOFFSETFROM:+0200
TZOFFSETTO:+0100
TZNAME:CET
DTSTART:20271031T010000
END:STANDARD
END:VTIMEZONE
BEGIN:VEVENT
DTSTART;TZID=Europe/Zurich:20260329T201800
DTEND;TZID=Europe/Zurich:20260329T201800
DTSTAMP:20260425T180016
CREATED:20260130T164519Z
LAST-MODIFIED:20260130T164519Z
UID:31541-1774815480-1774815480@observatoire-mont-soleil.ch
SUMMARY:Début de l'occultation de 32-alpha Leo
DESCRIPTION:
URL:https://observatoire-mont-soleil.ch/event/debut-de-loccultation-de-32-alpha-leo-2/
END:VEVENT
BEGIN:VEVENT
DTSTART;TZID=Europe/Zurich:20260329T205500
DTEND;TZID=Europe/Zurich:20260329T205500
DTSTAMP:20260425T180016
CREATED:20260130T164533Z
LAST-MODIFIED:20260130T164533Z
UID:31542-1774817700-1774817700@observatoire-mont-soleil.ch
SUMMARY:Rapprochement entre la Lune et Régulus (dist. topocentrique centre à centre = 0
DESCRIPTION:
URL:https://observatoire-mont-soleil.ch/event/rapprochement-entre-la-lune-et-regulus-dist-topocentrique-centre-a-centre-0-2/
END:VEVENT
BEGIN:VEVENT
DTSTART;TZID=Europe/Zurich:20260329T213200
DTEND;TZID=Europe/Zurich:20260329T213200
DTSTAMP:20260425T180016
CREATED:20260130T164533Z
LAST-MODIFIED:20260130T164533Z
UID:31543-1774819920-1774819920@observatoire-mont-soleil.ch
SUMMARY:Fin de l'occultation de 32-alpha Leo
DESCRIPTION:
URL:https://observatoire-mont-soleil.ch/event/fin-de-loccultation-de-32-alpha-leo-2/
END:VEVENT
END:VCALENDAR