BEGIN:VCALENDAR
VERSION:2.0
PRODID:-//Observatoire et Planétarium de Mont-Soleil - ECPv6.15.20//NONSGML v1.0//EN
CALSCALE:GREGORIAN
METHOD:PUBLISH
X-WR-CALNAME:Observatoire et Planétarium de Mont-Soleil
X-ORIGINAL-URL:https://observatoire-mont-soleil.ch
X-WR-CALDESC:Évènements pour Observatoire et Planétarium de Mont-Soleil
REFRESH-INTERVAL;VALUE=DURATION:PT1H
X-Robots-Tag:noindex
X-PUBLISHED-TTL:PT1H
BEGIN:VTIMEZONE
TZID:Europe/Zurich
BEGIN:DAYLIGHT
TZOFFSETFROM:+0100
TZOFFSETTO:+0200
TZNAME:CEST
DTSTART:20250330T010000
END:DAYLIGHT
BEGIN:STANDARD
TZOFFSETFROM:+0200
TZOFFSETTO:+0100
TZNAME:CET
DTSTART:20251026T010000
END:STANDARD
BEGIN:DAYLIGHT
TZOFFSETFROM:+0100
TZOFFSETTO:+0200
TZNAME:CEST
DTSTART:20260329T010000
END:DAYLIGHT
BEGIN:STANDARD
TZOFFSETFROM:+0200
TZOFFSETTO:+0100
TZNAME:CET
DTSTART:20261025T010000
END:STANDARD
BEGIN:DAYLIGHT
TZOFFSETFROM:+0100
TZOFFSETTO:+0200
TZNAME:CEST
DTSTART:20270328T010000
END:DAYLIGHT
BEGIN:STANDARD
TZOFFSETFROM:+0200
TZOFFSETTO:+0100
TZNAME:CET
DTSTART:20271031T010000
END:STANDARD
END:VTIMEZONE
BEGIN:VEVENT
DTSTART;TZID=Europe/Zurich:20260403T005100
DTEND;TZID=Europe/Zurich:20260403T005100
DTSTAMP:20260425T143816
CREATED:20260325T151656Z
LAST-MODIFIED:20260325T151656Z
UID:31593-1775177460-1775177460@observatoire-mont-soleil.ch
SUMMARY:Rapprochement entre la Lune et Spica (dist. topocentrique centre à centre = 2
DESCRIPTION:
URL:https://observatoire-mont-soleil.ch/event/rapprochement-entre-la-lune-et-spica-dist-topocentrique-centre-a-centre-2/
END:VEVENT
BEGIN:VEVENT
DTSTART;TZID=Europe/Zurich:20260403T073500
DTEND;TZID=Europe/Zurich:20260403T073500
DTSTAMP:20260425T143816
CREATED:20260325T151656Z
LAST-MODIFIED:20260325T151656Z
UID:31594-1775201700-1775201700@observatoire-mont-soleil.ch
SUMMARY:Minimum de l'étoile variable Algol (bêta de Persée)
DESCRIPTION:
URL:https://observatoire-mont-soleil.ch/event/minimum-de-letoile-variable-algol-beta-de-persee-166/
END:VEVENT
BEGIN:VEVENT
DTSTART;TZID=Europe/Zurich:20260403T180000
DTEND;TZID=Europe/Zurich:20260403T180000
DTSTAMP:20260425T143816
CREATED:20260325T151657Z
LAST-MODIFIED:20260325T151657Z
UID:31595-1775239200-1775239200@observatoire-mont-soleil.ch
SUMMARY:PLUS GRANDE ÉLONGATION OUEST de Mercure (27
DESCRIPTION:
URL:https://observatoire-mont-soleil.ch/event/plus-grande-elongation-ouest-de-mercure-27/
END:VEVENT
END:VCALENDAR