BEGIN:VCALENDAR
VERSION:2.0
PRODID:-//Observatoire et Planétarium de Mont-Soleil - ECPv6.15.20//NONSGML v1.0//EN
CALSCALE:GREGORIAN
METHOD:PUBLISH
X-WR-CALNAME:Observatoire et Planétarium de Mont-Soleil
X-ORIGINAL-URL:https://observatoire-mont-soleil.ch
X-WR-CALDESC:Évènements pour Observatoire et Planétarium de Mont-Soleil
REFRESH-INTERVAL;VALUE=DURATION:PT1H
X-Robots-Tag:noindex
X-PUBLISHED-TTL:PT1H
BEGIN:VTIMEZONE
TZID:Europe/Zurich
BEGIN:DAYLIGHT
TZOFFSETFROM:+0100
TZOFFSETTO:+0200
TZNAME:CEST
DTSTART:20250330T010000
END:DAYLIGHT
BEGIN:STANDARD
TZOFFSETFROM:+0200
TZOFFSETTO:+0100
TZNAME:CET
DTSTART:20251026T010000
END:STANDARD
BEGIN:DAYLIGHT
TZOFFSETFROM:+0100
TZOFFSETTO:+0200
TZNAME:CEST
DTSTART:20260329T010000
END:DAYLIGHT
BEGIN:STANDARD
TZOFFSETFROM:+0200
TZOFFSETTO:+0100
TZNAME:CET
DTSTART:20261025T010000
END:STANDARD
BEGIN:DAYLIGHT
TZOFFSETFROM:+0100
TZOFFSETTO:+0200
TZNAME:CEST
DTSTART:20270328T010000
END:DAYLIGHT
BEGIN:STANDARD
TZOFFSETFROM:+0200
TZOFFSETTO:+0100
TZNAME:CET
DTSTART:20271031T010000
END:STANDARD
END:VTIMEZONE
BEGIN:VEVENT
DTSTART;TZID=Europe/Zurich:20260101T231300
DTEND;TZID=Europe/Zurich:20260101T231300
DTSTAMP:20260423T195653
CREATED:20260130T164711Z
LAST-MODIFIED:20260130T164711Z
UID:31549-1767309180-1767309180@observatoire-mont-soleil.ch
SUMMARY:Titan (satellite de Saturne) : Fin de l'occultation
DESCRIPTION:
URL:https://observatoire-mont-soleil.ch/event/titan-satellite-de-saturne-fin-de-loccultation-4/
END:VEVENT
BEGIN:VEVENT
DTSTART;TZID=Europe/Zurich:20260101T234300
DTEND;TZID=Europe/Zurich:20260101T234300
DTSTAMP:20260423T195653
CREATED:20260130T164711Z
LAST-MODIFIED:20260130T164711Z
UID:31550-1767310980-1767310980@observatoire-mont-soleil.ch
SUMMARY:Lune au périgée (distance géoc. = 360348 km)
DESCRIPTION:
URL:https://observatoire-mont-soleil.ch/event/lune-au-perigee-distance-geoc-360348-km/
END:VEVENT
BEGIN:VEVENT
DTSTART;TZID=Europe/Zurich:20260102T152100
DTEND;TZID=Europe/Zurich:20260102T152100
DTSTAMP:20260423T195653
CREATED:20260130T164711Z
LAST-MODIFIED:20260130T164711Z
UID:31551-1767367260-1767367260@observatoire-mont-soleil.ch
SUMMARY:Opposition de l'astéroïde 40 Harmonia avec le Soleil (dist. au Soleil = 2
DESCRIPTION:
URL:https://observatoire-mont-soleil.ch/event/opposition-de-lasteroide-40-harmonia-avec-le-soleil-dist-au-soleil-2/
END:VEVENT
BEGIN:VEVENT
DTSTART;TZID=Europe/Zurich:20260103T120300
DTEND;TZID=Europe/Zurich:20260103T120300
DTSTAMP:20260423T195653
CREATED:20260130T164712Z
LAST-MODIFIED:20260130T164712Z
UID:31552-1767441780-1767441780@observatoire-mont-soleil.ch
SUMMARY:PLEINE LUNE
DESCRIPTION:
URL:https://observatoire-mont-soleil.ch/event/pleine-lune-13/
END:VEVENT
BEGIN:VEVENT
DTSTART;TZID=Europe/Zurich:20260103T163800
DTEND;TZID=Europe/Zurich:20260103T163800
DTSTAMP:20260423T195653
CREATED:20260130T164712Z
LAST-MODIFIED:20260130T164712Z
UID:31553-1767458280-1767458280@observatoire-mont-soleil.ch
SUMMARY:Pluie d'étoiles filantes : Quadrantides (80 météores/heure au zénith; durée = 16
DESCRIPTION:
URL:https://observatoire-mont-soleil.ch/event/pluie-detoiles-filantes-quadrantides-80-meteores-heure-au-zenith-duree-16/
END:VEVENT
BEGIN:VEVENT
DTSTART;TZID=Europe/Zurich:20260103T190000
DTEND;TZID=Europe/Zurich:20260103T190000
DTSTAMP:20260423T195653
CREATED:20260130T164713Z
LAST-MODIFIED:20260130T164713Z
UID:31554-1767466800-1767466800@observatoire-mont-soleil.ch
SUMMARY:La Terre à son périhélie (distance au Soleil = 0
DESCRIPTION:
URL:https://observatoire-mont-soleil.ch/event/la-terre-a-son-perihelie-distance-au-soleil-0/
END:VEVENT
BEGIN:VEVENT
DTSTART;TZID=Europe/Zurich:20260104T005200
DTEND;TZID=Europe/Zurich:20260104T005200
DTSTAMP:20260423T195653
CREATED:20260130T164713Z
LAST-MODIFIED:20260130T164713Z
UID:31555-1767487920-1767487920@observatoire-mont-soleil.ch
SUMMARY:Rapprochement entre la Lune et Jupiter (dist. topocentrique centre à centre = 3
DESCRIPTION:
URL:https://observatoire-mont-soleil.ch/event/rapprochement-entre-la-lune-et-jupiter-dist-topocentrique-centre-a-centre-3/
END:VEVENT
BEGIN:VEVENT
DTSTART;TZID=Europe/Zurich:20260104T042500
DTEND;TZID=Europe/Zurich:20260104T042500
DTSTAMP:20260423T195653
CREATED:20260130T164713Z
LAST-MODIFIED:20260130T164713Z
UID:31556-1767500700-1767500700@observatoire-mont-soleil.ch
SUMMARY:Rapprochement entre la Lune et Pollux (dist. topocentrique centre à centre = 3
DESCRIPTION:
URL:https://observatoire-mont-soleil.ch/event/rapprochement-entre-la-lune-et-pollux-dist-topocentrique-centre-a-centre-3-2/
END:VEVENT
BEGIN:VEVENT
DTSTART;TZID=Europe/Zurich:20260104T061500
DTEND;TZID=Europe/Zurich:20260104T061500
DTSTAMP:20260423T195653
CREATED:20260130T164713Z
LAST-MODIFIED:20260130T164713Z
UID:31557-1767507300-1767507300@observatoire-mont-soleil.ch
SUMMARY:Début de l'occultation de 77-kappa Gem (magn. = 3
DESCRIPTION:
URL:https://observatoire-mont-soleil.ch/event/debut-de-loccultation-de-77-kappa-gem-magn-3-2/
END:VEVENT
BEGIN:VEVENT
DTSTART;TZID=Europe/Zurich:20260104T065100
DTEND;TZID=Europe/Zurich:20260104T065100
DTSTAMP:20260423T195653
CREATED:20260130T164713Z
LAST-MODIFIED:20260130T164713Z
UID:31558-1767509460-1767509460@observatoire-mont-soleil.ch
SUMMARY:Maximum de l'étoile variable delta de Céphée
DESCRIPTION:
URL:https://observatoire-mont-soleil.ch/event/maximum-de-letoile-variable-delta-de-cephee-86/
END:VEVENT
BEGIN:VEVENT
DTSTART;TZID=Europe/Zurich:20260104T100600
DTEND;TZID=Europe/Zurich:20260104T100600
DTSTAMP:20260423T195653
CREATED:20260130T164801Z
LAST-MODIFIED:20260130T164801Z
UID:31559-1767521160-1767521160@observatoire-mont-soleil.ch
SUMMARY:Minimum de l'étoile variable Algol (bêta de Persée)
DESCRIPTION:
URL:https://observatoire-mont-soleil.ch/event/minimum-de-letoile-variable-algol-beta-de-persee-160/
END:VEVENT
BEGIN:VEVENT
DTSTART;TZID=Europe/Zurich:20260105T023800
DTEND;TZID=Europe/Zurich:20260105T023800
DTSTAMP:20260423T195653
CREATED:20260130T164802Z
LAST-MODIFIED:20260130T164802Z
UID:31560-1767580680-1767580680@observatoire-mont-soleil.ch
SUMMARY:Maximum de l'étoile variable êta de l'Aigle
DESCRIPTION:
URL:https://observatoire-mont-soleil.ch/event/maximum-de-letoile-variable-eta-de-laigle-64/
END:VEVENT
BEGIN:VEVENT
DTSTART;TZID=Europe/Zurich:20260105T044800
DTEND;TZID=Europe/Zurich:20260105T044800
DTSTAMP:20260423T195653
CREATED:20260130T164802Z
LAST-MODIFIED:20260130T164802Z
UID:31561-1767588480-1767588480@observatoire-mont-soleil.ch
SUMMARY:Rapprochement entre la Lune et M 44 (dist. topocentrique centre à centre = 0
DESCRIPTION:
URL:https://observatoire-mont-soleil.ch/event/rapprochement-entre-la-lune-et-m-44-dist-topocentrique-centre-a-centre-0-2/
END:VEVENT
BEGIN:VEVENT
DTSTART;TZID=Europe/Zurich:20260106T130000
DTEND;TZID=Europe/Zurich:20260106T130000
DTSTAMP:20260423T195653
CREATED:20260130T164802Z
LAST-MODIFIED:20260130T164802Z
UID:31562-1767704400-1767704400@observatoire-mont-soleil.ch
SUMMARY:Mercure à son aphélie (distance au Soleil = 0
DESCRIPTION:
URL:https://observatoire-mont-soleil.ch/event/mercure-a-son-aphelie-distance-au-soleil-0/
END:VEVENT
BEGIN:VEVENT
DTSTART;TZID=Europe/Zurich:20260106T183600
DTEND;TZID=Europe/Zurich:20260106T183600
DTSTAMP:20260423T195653
CREATED:20260130T164802Z
LAST-MODIFIED:20260130T164802Z
UID:31563-1767724560-1767724560@observatoire-mont-soleil.ch
SUMMARY:CONJONCTION SUPÉRIEURE de Vénus avec le Soleil (dist. géoc. centre à centre = 0
DESCRIPTION:
URL:https://observatoire-mont-soleil.ch/event/conjonction-superieure-de-venus-avec-le-soleil-dist-geoc-centre-a-centre-0/
END:VEVENT
BEGIN:VEVENT
DTSTART;TZID=Europe/Zurich:20260107T065600
DTEND;TZID=Europe/Zurich:20260107T065600
DTSTAMP:20260423T195653
CREATED:20260130T164814Z
LAST-MODIFIED:20260130T164814Z
UID:31564-1767768960-1767768960@observatoire-mont-soleil.ch
SUMMARY:Minimum de l'étoile variable Algol (bêta de Persée)
DESCRIPTION:
URL:https://observatoire-mont-soleil.ch/event/minimum-de-letoile-variable-algol-beta-de-persee-161/
END:VEVENT
BEGIN:VEVENT
DTSTART;TZID=Europe/Zurich:20260108T101700
DTEND;TZID=Europe/Zurich:20260108T101700
DTSTAMP:20260423T195653
CREATED:20260130T164815Z
LAST-MODIFIED:20260130T164815Z
UID:31565-1767867420-1767867420@observatoire-mont-soleil.ch
SUMMARY:Comète 24P Schaumasse à son périhélie (dist. au Soleil = 1
DESCRIPTION:
URL:https://observatoire-mont-soleil.ch/event/comete-24p-schaumasse-a-son-perihelie-dist-au-soleil-1/
END:VEVENT
BEGIN:VEVENT
DTSTART;TZID=Europe/Zurich:20260109T134100
DTEND;TZID=Europe/Zurich:20260109T134100
DTSTAMP:20260423T195653
CREATED:20260130T164815Z
LAST-MODIFIED:20260130T164815Z
UID:31566-1767966060-1767966060@observatoire-mont-soleil.ch
SUMMARY:CONJONCTION entre Mars et le Soleil (dist. géoc. centre à centre = 0
DESCRIPTION:
URL:https://observatoire-mont-soleil.ch/event/conjonction-entre-mars-et-le-soleil-dist-geoc-centre-a-centre-0/
END:VEVENT
BEGIN:VEVENT
DTSTART;TZID=Europe/Zurich:20260109T153900
DTEND;TZID=Europe/Zurich:20260109T153900
DTSTAMP:20260423T195653
CREATED:20260130T164815Z
LAST-MODIFIED:20260130T164815Z
UID:31567-1767973140-1767973140@observatoire-mont-soleil.ch
SUMMARY:Maximum de l'étoile variable delta de Céphée
DESCRIPTION:
URL:https://observatoire-mont-soleil.ch/event/maximum-de-letoile-variable-delta-de-cephee-87/
END:VEVENT
BEGIN:VEVENT
DTSTART;TZID=Europe/Zurich:20260109T190300
DTEND;TZID=Europe/Zurich:20260109T190300
DTSTAMP:20260423T195653
CREATED:20260130T164815Z
LAST-MODIFIED:20260130T164815Z
UID:31568-1767985380-1767985380@observatoire-mont-soleil.ch
SUMMARY:Titan (satellite de Saturne) : Début du passage
DESCRIPTION:
URL:https://observatoire-mont-soleil.ch/event/titan-satellite-de-saturne-debut-du-passage-8/
END:VEVENT
BEGIN:VEVENT
DTSTART;TZID=Europe/Zurich:20260109T213400
DTEND;TZID=Europe/Zurich:20260109T213400
DTSTAMP:20260423T195653
CREATED:20260130T164818Z
LAST-MODIFIED:20260130T164818Z
UID:31569-1767994440-1767994440@observatoire-mont-soleil.ch
SUMMARY:Titan (satellite de Saturne) : Passage au méridien central
DESCRIPTION:
URL:https://observatoire-mont-soleil.ch/event/titan-satellite-de-saturne-passage-au-meridien-central-6/
END:VEVENT
BEGIN:VEVENT
DTSTART;TZID=Europe/Zurich:20260110T002000
DTEND;TZID=Europe/Zurich:20260110T002000
DTSTAMP:20260423T195653
CREATED:20260130T164818Z
LAST-MODIFIED:20260130T164818Z
UID:31570-1768004400-1768004400@observatoire-mont-soleil.ch
SUMMARY:Maximum de l'étoile variable zêta des Gémeaux
DESCRIPTION:
URL:https://observatoire-mont-soleil.ch/event/maximum-de-letoile-variable-zeta-des-gemeaux-45/
END:VEVENT
BEGIN:VEVENT
DTSTART;TZID=Europe/Zurich:20260110T034500
DTEND;TZID=Europe/Zurich:20260110T034500
DTSTAMP:20260423T195653
CREATED:20260130T164818Z
LAST-MODIFIED:20260130T164818Z
UID:31571-1768016700-1768016700@observatoire-mont-soleil.ch
SUMMARY:Minimum de l'étoile variable Algol (bêta de Persée)
DESCRIPTION:
URL:https://observatoire-mont-soleil.ch/event/minimum-de-letoile-variable-algol-beta-de-persee-162/
END:VEVENT
BEGIN:VEVENT
DTSTART;TZID=Europe/Zurich:20260110T104200
DTEND;TZID=Europe/Zurich:20260110T104200
DTSTAMP:20260423T195653
CREATED:20260130T164819Z
LAST-MODIFIED:20260130T164819Z
UID:31572-1768041720-1768041720@observatoire-mont-soleil.ch
SUMMARY:OPPOSITION de Jupiter avec le Soleil
DESCRIPTION:
URL:https://observatoire-mont-soleil.ch/event/opposition-de-jupiter-avec-le-soleil-2/
END:VEVENT
BEGIN:VEVENT
DTSTART;TZID=Europe/Zurich:20260110T174800
DTEND;TZID=Europe/Zurich:20260110T174800
DTSTAMP:20260423T195653
CREATED:20260130T164819Z
LAST-MODIFIED:20260130T164819Z
UID:31573-1768067280-1768067280@observatoire-mont-soleil.ch
SUMMARY:DERNIER QUARTIER DE LA LUNE
DESCRIPTION:
URL:https://observatoire-mont-soleil.ch/event/dernier-quartier-de-la-lune-16/
END:VEVENT
BEGIN:VEVENT
DTSTART;TZID=Europe/Zurich:20260112T055200
DTEND;TZID=Europe/Zurich:20260112T055200
DTSTAMP:20260423T195653
CREATED:20260130T164833Z
LAST-MODIFIED:20260130T164833Z
UID:31574-1768197120-1768197120@observatoire-mont-soleil.ch
SUMMARY:Minimum de l'étoile variable bêta de la Lyre
DESCRIPTION:
URL:https://observatoire-mont-soleil.ch/event/minimum-de-letoile-variable-beta-de-la-lyre-36/
END:VEVENT
BEGIN:VEVENT
DTSTART;TZID=Europe/Zurich:20260112T065200
DTEND;TZID=Europe/Zurich:20260112T065200
DTSTAMP:20260423T195653
CREATED:20260130T164833Z
LAST-MODIFIED:20260130T164833Z
UID:31575-1768200720-1768200720@observatoire-mont-soleil.ch
SUMMARY:Maximum de l'étoile variable êta de l'Aigle
DESCRIPTION:
URL:https://observatoire-mont-soleil.ch/event/maximum-de-letoile-variable-eta-de-laigle-65/
END:VEVENT
BEGIN:VEVENT
DTSTART;TZID=Europe/Zurich:20260113T003400
DTEND;TZID=Europe/Zurich:20260113T003400
DTSTAMP:20260423T195653
CREATED:20260130T164833Z
LAST-MODIFIED:20260130T164833Z
UID:31576-1768264440-1768264440@observatoire-mont-soleil.ch
SUMMARY:Minimum de l'étoile variable Algol (bêta de Persée)
DESCRIPTION:
URL:https://observatoire-mont-soleil.ch/event/minimum-de-letoile-variable-algol-beta-de-persee-163/
END:VEVENT
BEGIN:VEVENT
DTSTART;TZID=Europe/Zurich:20260113T224800
DTEND;TZID=Europe/Zurich:20260113T224800
DTSTAMP:20260423T195653
CREATED:20260130T164834Z
LAST-MODIFIED:20260130T164834Z
UID:31577-1768344480-1768344480@observatoire-mont-soleil.ch
SUMMARY:Lune à l'apogée (distance géoc. = 405438 km)
DESCRIPTION:
URL:https://observatoire-mont-soleil.ch/event/lune-a-lapogee-distance-geoc-405438-km/
END:VEVENT
BEGIN:VEVENT
DTSTART;TZID=Europe/Zurich:20260115T002700
DTEND;TZID=Europe/Zurich:20260115T002700
DTSTAMP:20260423T195653
CREATED:20260130T164834Z
LAST-MODIFIED:20260130T164834Z
UID:31578-1768436820-1768436820@observatoire-mont-soleil.ch
SUMMARY:Maximum de l'étoile variable delta de Céphée
DESCRIPTION:
URL:https://observatoire-mont-soleil.ch/event/maximum-de-letoile-variable-delta-de-cephee-88/
END:VEVENT
END:VCALENDAR