BEGIN:VCALENDAR
VERSION:2.0
PRODID:-//Observatoire et Planétarium de Mont-Soleil - ECPv6.15.20//NONSGML v1.0//EN
CALSCALE:GREGORIAN
METHOD:PUBLISH
X-ORIGINAL-URL:https://observatoire-mont-soleil.ch
X-WR-CALDESC:Évènements pour Observatoire et Planétarium de Mont-Soleil
REFRESH-INTERVAL;VALUE=DURATION:PT1H
X-Robots-Tag:noindex
X-PUBLISHED-TTL:PT1H
BEGIN:VTIMEZONE
TZID:Europe/Zurich
BEGIN:DAYLIGHT
TZOFFSETFROM:+0100
TZOFFSETTO:+0200
TZNAME:CEST
DTSTART:20250330T010000
END:DAYLIGHT
BEGIN:STANDARD
TZOFFSETFROM:+0200
TZOFFSETTO:+0100
TZNAME:CET
DTSTART:20251026T010000
END:STANDARD
BEGIN:DAYLIGHT
TZOFFSETFROM:+0100
TZOFFSETTO:+0200
TZNAME:CEST
DTSTART:20260329T010000
END:DAYLIGHT
BEGIN:STANDARD
TZOFFSETFROM:+0200
TZOFFSETTO:+0100
TZNAME:CET
DTSTART:20261025T010000
END:STANDARD
BEGIN:DAYLIGHT
TZOFFSETFROM:+0100
TZOFFSETTO:+0200
TZNAME:CEST
DTSTART:20270328T010000
END:DAYLIGHT
BEGIN:STANDARD
TZOFFSETFROM:+0200
TZOFFSETTO:+0100
TZNAME:CET
DTSTART:20271031T010000
END:STANDARD
END:VTIMEZONE
BEGIN:VEVENT
DTSTART;TZID=Europe/Zurich:20260202T000900
DTEND;TZID=Europe/Zurich:20260202T000900
DTSTAMP:20260423T230943
CREATED:20260130T163319Z
LAST-MODIFIED:20260130T163319Z
UID:31444-1769990940-1769990940@observatoire-mont-soleil.ch
SUMMARY:PLEINE LUNE
DESCRIPTION:
URL:https://observatoire-mont-soleil.ch/event/pleine-lune-12/
END:VEVENT
BEGIN:VEVENT
DTSTART;TZID=Europe/Zurich:20260202T022000
DTEND;TZID=Europe/Zurich:20260202T022000
DTSTAMP:20260423T230943
CREATED:20260130T163319Z
LAST-MODIFIED:20260130T163319Z
UID:31445-1769998800-1769998800@observatoire-mont-soleil.ch
SUMMARY:Minimum de l'étoile variable Algol (bêta de Persée)
DESCRIPTION:
URL:https://observatoire-mont-soleil.ch/event/minimum-de-letoile-variable-algol-beta-de-persee-139/
END:VEVENT
BEGIN:VEVENT
DTSTART;TZID=Europe/Zurich:20260202T191200
DTEND;TZID=Europe/Zurich:20260202T191200
DTSTAMP:20260423T230943
CREATED:20260130T163320Z
LAST-MODIFIED:20260130T163320Z
UID:31446-1770059520-1770059520@observatoire-mont-soleil.ch
SUMMARY:Titan (satellite de Saturne) : Début de l'occultation
DESCRIPTION:
URL:https://observatoire-mont-soleil.ch/event/titan-satellite-de-saturne-debut-de-loccultation-7/
END:VEVENT
BEGIN:VEVENT
DTSTART;TZID=Europe/Zurich:20260202T193600
DTEND;TZID=Europe/Zurich:20260202T193600
DTSTAMP:20260423T230943
CREATED:20260130T163320Z
LAST-MODIFIED:20260130T163320Z
UID:31447-1770060960-1770060960@observatoire-mont-soleil.ch
SUMMARY:Maximum de l'étoile variable êta de l'Aigle
DESCRIPTION:
URL:https://observatoire-mont-soleil.ch/event/maximum-de-letoile-variable-eta-de-laigle-56/
END:VEVENT
BEGIN:VEVENT
DTSTART;TZID=Europe/Zurich:20260202T212200
DTEND;TZID=Europe/Zurich:20260202T212200
DTSTAMP:20260423T230943
CREATED:20260130T163320Z
LAST-MODIFIED:20260130T163320Z
UID:31448-1770067320-1770067320@observatoire-mont-soleil.ch
SUMMARY:Titan (satellite de Saturne) : Fin de l'occultation
DESCRIPTION:
URL:https://observatoire-mont-soleil.ch/event/titan-satellite-de-saturne-fin-de-loccultation-3/
END:VEVENT
BEGIN:VEVENT
DTSTART;TZID=Europe/Zurich:20260203T055800
DTEND;TZID=Europe/Zurich:20260203T055800
DTSTAMP:20260423T230943
CREATED:20260130T163321Z
LAST-MODIFIED:20260130T163321Z
UID:31449-1770098280-1770098280@observatoire-mont-soleil.ch
SUMMARY:Rapprochement entre la Lune et Régulus (dist. topocentrique centre à centre = 0
DESCRIPTION:
URL:https://observatoire-mont-soleil.ch/event/rapprochement-entre-la-lune-et-regulus-dist-topocentrique-centre-a-centre-0/
END:VEVENT
BEGIN:VEVENT
DTSTART;TZID=Europe/Zurich:20260204T230900
DTEND;TZID=Europe/Zurich:20260204T230900
DTSTAMP:20260423T230943
CREATED:20260130T163321Z
LAST-MODIFIED:20260130T163321Z
UID:31450-1770246540-1770246540@observatoire-mont-soleil.ch
SUMMARY:Minimum de l'étoile variable Algol (bêta de Persée)
DESCRIPTION:
URL:https://observatoire-mont-soleil.ch/event/minimum-de-letoile-variable-algol-beta-de-persee-140/
END:VEVENT
BEGIN:VEVENT
DTSTART;TZID=Europe/Zurich:20260205T113800
DTEND;TZID=Europe/Zurich:20260205T113800
DTSTAMP:20260423T230943
CREATED:20260130T163321Z
LAST-MODIFIED:20260130T163321Z
UID:31451-1770291480-1770291480@observatoire-mont-soleil.ch
SUMMARY:Maximum de l'étoile variable delta de Céphée
DESCRIPTION:
URL:https://observatoire-mont-soleil.ch/event/maximum-de-letoile-variable-delta-de-cephee-75/
END:VEVENT
BEGIN:VEVENT
DTSTART;TZID=Europe/Zurich:20260207T031100
DTEND;TZID=Europe/Zurich:20260207T031100
DTSTAMP:20260423T230943
CREATED:20260130T163322Z
LAST-MODIFIED:20260130T163322Z
UID:31452-1770433860-1770433860@observatoire-mont-soleil.ch
SUMMARY:Minimum de l'étoile variable bêta de la Lyre
DESCRIPTION:
URL:https://observatoire-mont-soleil.ch/event/minimum-de-letoile-variable-beta-de-la-lyre-31/
END:VEVENT
BEGIN:VEVENT
DTSTART;TZID=Europe/Zurich:20260207T195800
DTEND;TZID=Europe/Zurich:20260207T195800
DTSTAMP:20260423T230943
CREATED:20260130T163322Z
LAST-MODIFIED:20260130T163322Z
UID:31453-1770494280-1770494280@observatoire-mont-soleil.ch
SUMMARY:Minimum de l'étoile variable Algol (bêta de Persée)
DESCRIPTION:
URL:https://observatoire-mont-soleil.ch/event/minimum-de-letoile-variable-algol-beta-de-persee-141/
END:VEVENT
BEGIN:VEVENT
DTSTART;TZID=Europe/Zurich:20260209T110800
DTEND;TZID=Europe/Zurich:20260209T110800
DTSTAMP:20260423T230943
CREATED:20260130T163359Z
LAST-MODIFIED:20260130T163359Z
UID:31454-1770635280-1770635280@observatoire-mont-soleil.ch
SUMMARY:Maximum de l'étoile variable zêta des Gémeaux
DESCRIPTION:
URL:https://observatoire-mont-soleil.ch/event/maximum-de-letoile-variable-zeta-des-gemeaux-40/
END:VEVENT
BEGIN:VEVENT
DTSTART;TZID=Europe/Zurich:20260209T144300
DTEND;TZID=Europe/Zurich:20260209T144300
DTSTAMP:20260423T230943
CREATED:20260130T163359Z
LAST-MODIFIED:20260130T163359Z
UID:31455-1770648180-1770648180@observatoire-mont-soleil.ch
SUMMARY:DERNIER QUARTIER DE LA LUNE
DESCRIPTION:
URL:https://observatoire-mont-soleil.ch/event/dernier-quartier-de-la-lune-14/
END:VEVENT
BEGIN:VEVENT
DTSTART;TZID=Europe/Zurich:20260209T235000
DTEND;TZID=Europe/Zurich:20260209T235000
DTSTAMP:20260423T230943
CREATED:20260130T163359Z
LAST-MODIFIED:20260130T163359Z
UID:31456-1770681000-1770681000@observatoire-mont-soleil.ch
SUMMARY:Maximum de l'étoile variable êta de l'Aigle
DESCRIPTION:
URL:https://observatoire-mont-soleil.ch/event/maximum-de-letoile-variable-eta-de-laigle-57/
END:VEVENT
BEGIN:VEVENT
DTSTART;TZID=Europe/Zurich:20260210T164700
DTEND;TZID=Europe/Zurich:20260210T164700
DTSTAMP:20260423T230943
CREATED:20260130T163359Z
LAST-MODIFIED:20260130T163359Z
UID:31457-1770742020-1770742020@observatoire-mont-soleil.ch
SUMMARY:Minimum de l'étoile variable Algol (bêta de Persée)
DESCRIPTION:
URL:https://observatoire-mont-soleil.ch/event/minimum-de-letoile-variable-algol-beta-de-persee-142/
END:VEVENT
BEGIN:VEVENT
DTSTART;TZID=Europe/Zurich:20260210T185200
DTEND;TZID=Europe/Zurich:20260210T185200
DTSTAMP:20260423T230943
CREATED:20260130T163400Z
LAST-MODIFIED:20260130T163400Z
UID:31458-1770749520-1770749520@observatoire-mont-soleil.ch
SUMMARY:Lune à l'apogée (distance géoc. = 404576 km)
DESCRIPTION:
URL:https://observatoire-mont-soleil.ch/event/lune-a-lapogee-distance-geoc-404576-km/
END:VEVENT
BEGIN:VEVENT
DTSTART;TZID=Europe/Zurich:20260210T202600
DTEND;TZID=Europe/Zurich:20260210T202600
DTSTAMP:20260423T230943
CREATED:20260130T163414Z
LAST-MODIFIED:20260130T163414Z
UID:31459-1770755160-1770755160@observatoire-mont-soleil.ch
SUMMARY:Maximum de l'étoile variable delta de Céphée
DESCRIPTION:
URL:https://observatoire-mont-soleil.ch/event/maximum-de-letoile-variable-delta-de-cephee-76/
END:VEVENT
BEGIN:VEVENT
DTSTART;TZID=Europe/Zurich:20260211T082500
DTEND;TZID=Europe/Zurich:20260211T082500
DTSTAMP:20260423T230943
CREATED:20260130T163414Z
LAST-MODIFIED:20260130T163414Z
UID:31460-1770798300-1770798300@observatoire-mont-soleil.ch
SUMMARY:Début de l'occultation de 23-tau Sco (magn. = 2
DESCRIPTION:
URL:https://observatoire-mont-soleil.ch/event/debut-de-loccultation-de-23-tau-sco-magn-2/
END:VEVENT
BEGIN:VEVENT
DTSTART;TZID=Europe/Zurich:20260212T210700
DTEND;TZID=Europe/Zurich:20260212T210700
DTSTAMP:20260423T230943
CREATED:20260130T163414Z
LAST-MODIFIED:20260130T163414Z
UID:31461-1770930420-1770930420@observatoire-mont-soleil.ch
SUMMARY:Transits simultanés sur Jupiter : deux ombres de satellites.
DESCRIPTION:
URL:https://observatoire-mont-soleil.ch/event/transits-simultanes-sur-jupiter-deux-ombres-de-satellites-11/
END:VEVENT
BEGIN:VEVENT
DTSTART;TZID=Europe/Zurich:20260213T133700
DTEND;TZID=Europe/Zurich:20260213T133700
DTSTAMP:20260423T230943
CREATED:20260130T163415Z
LAST-MODIFIED:20260130T163415Z
UID:31462-1770989820-1770989820@observatoire-mont-soleil.ch
SUMMARY:Minimum de l'étoile variable Algol (bêta de Persée)
DESCRIPTION:
URL:https://observatoire-mont-soleil.ch/event/minimum-de-letoile-variable-algol-beta-de-persee-143/
END:VEVENT
BEGIN:VEVENT
DTSTART;TZID=Europe/Zurich:20260216T051400
DTEND;TZID=Europe/Zurich:20260216T051400
DTSTAMP:20260423T230943
CREATED:20260130T163415Z
LAST-MODIFIED:20260130T163415Z
UID:31463-1771218840-1771218840@observatoire-mont-soleil.ch
SUMMARY:Maximum de l'étoile variable delta de Céphée
DESCRIPTION:
URL:https://observatoire-mont-soleil.ch/event/maximum-de-letoile-variable-delta-de-cephee-77/
END:VEVENT
BEGIN:VEVENT
DTSTART;TZID=Europe/Zurich:20260216T102600
DTEND;TZID=Europe/Zurich:20260216T102600
DTSTAMP:20260423T230943
CREATED:20260130T163429Z
LAST-MODIFIED:20260130T163429Z
UID:31464-1771237560-1771237560@observatoire-mont-soleil.ch
SUMMARY:Minimum de l'étoile variable Algol (bêta de Persée)
DESCRIPTION:
URL:https://observatoire-mont-soleil.ch/event/minimum-de-letoile-variable-algol-beta-de-persee-144/
END:VEVENT
BEGIN:VEVENT
DTSTART;TZID=Europe/Zurich:20260217T040400
DTEND;TZID=Europe/Zurich:20260217T040400
DTSTAMP:20260423T230943
CREATED:20260130T163429Z
LAST-MODIFIED:20260130T163429Z
UID:31465-1771301040-1771301040@observatoire-mont-soleil.ch
SUMMARY:Maximum de l'étoile variable êta de l'Aigle
DESCRIPTION:
URL:https://observatoire-mont-soleil.ch/event/maximum-de-letoile-variable-eta-de-laigle-58/
END:VEVENT
BEGIN:VEVENT
DTSTART;TZID=Europe/Zurich:20260217T140100
DTEND;TZID=Europe/Zurich:20260217T140100
DTSTAMP:20260423T230943
CREATED:20260130T163430Z
LAST-MODIFIED:20260130T163430Z
UID:31466-1771336860-1771336860@observatoire-mont-soleil.ch
SUMMARY:NOUVELLE LUNE (éclipse annulaire de Soleil non visible à Mont-Soleil)
DESCRIPTION:
URL:https://observatoire-mont-soleil.ch/event/nouvelle-lune-eclipse-annulaire-de-soleil-non-visible-a-mont-soleil/
END:VEVENT
BEGIN:VEVENT
DTSTART;TZID=Europe/Zurich:20260218T203100
DTEND;TZID=Europe/Zurich:20260218T203100
DTSTAMP:20260423T230943
CREATED:20260130T163430Z
LAST-MODIFIED:20260130T163430Z
UID:31467-1771446660-1771446660@observatoire-mont-soleil.ch
SUMMARY:Titan (satellite de Saturne) : Conjonction supérieure
DESCRIPTION:
URL:https://observatoire-mont-soleil.ch/event/titan-satellite-de-saturne-conjonction-superieure/
END:VEVENT
BEGIN:VEVENT
DTSTART;TZID=Europe/Zurich:20260219T071500
DTEND;TZID=Europe/Zurich:20260219T071500
DTSTAMP:20260423T230943
CREATED:20260130T163430Z
LAST-MODIFIED:20260130T163430Z
UID:31468-1771485300-1771485300@observatoire-mont-soleil.ch
SUMMARY:Minimum de l'étoile variable Algol (bêta de Persée)
DESCRIPTION:
URL:https://observatoire-mont-soleil.ch/event/minimum-de-letoile-variable-algol-beta-de-persee-145/
END:VEVENT
BEGIN:VEVENT
DTSTART;TZID=Europe/Zurich:20260219T130000
DTEND;TZID=Europe/Zurich:20260219T130000
DTSTAMP:20260423T230943
CREATED:20260130T163558Z
LAST-MODIFIED:20260130T163558Z
UID:31469-1771506000-1771506000@observatoire-mont-soleil.ch
SUMMARY:Mercure à son périhélie (distance au Soleil = 0
DESCRIPTION:
URL:https://observatoire-mont-soleil.ch/event/mercure-a-son-perihelie-distance-au-soleil-0/
END:VEVENT
BEGIN:VEVENT
DTSTART;TZID=Europe/Zurich:20260219T144400
DTEND;TZID=Europe/Zurich:20260219T144400
DTSTAMP:20260423T230943
CREATED:20260130T163558Z
LAST-MODIFIED:20260130T163558Z
UID:31470-1771512240-1771512240@observatoire-mont-soleil.ch
SUMMARY:Maximum de l'étoile variable zêta des Gémeaux
DESCRIPTION:
URL:https://observatoire-mont-soleil.ch/event/maximum-de-letoile-variable-zeta-des-gemeaux-41/
END:VEVENT
BEGIN:VEVENT
DTSTART;TZID=Europe/Zurich:20260219T180000
DTEND;TZID=Europe/Zurich:20260219T180000
DTSTAMP:20260423T230943
CREATED:20260130T163559Z
LAST-MODIFIED:20260130T163559Z
UID:31471-1771524000-1771524000@observatoire-mont-soleil.ch
SUMMARY:PLUS GRANDE ÉLONGATION EST de Mercure (18
DESCRIPTION:
URL:https://observatoire-mont-soleil.ch/event/plus-grande-elongation-est-de-mercure-18/
END:VEVENT
BEGIN:VEVENT
DTSTART;TZID=Europe/Zurich:20260220T015000
DTEND;TZID=Europe/Zurich:20260220T015000
DTSTAMP:20260423T230943
CREATED:20260130T163559Z
LAST-MODIFIED:20260130T163559Z
UID:31472-1771552200-1771552200@observatoire-mont-soleil.ch
SUMMARY:Minimum de l'étoile variable bêta de la Lyre
DESCRIPTION:
URL:https://observatoire-mont-soleil.ch/event/minimum-de-letoile-variable-beta-de-la-lyre-32/
END:VEVENT
BEGIN:VEVENT
DTSTART;TZID=Europe/Zurich:20260220T220800
DTEND;TZID=Europe/Zurich:20260220T220800
DTSTAMP:20260423T230943
CREATED:20260130T163559Z
LAST-MODIFIED:20260130T163559Z
UID:31473-1771625280-1771625280@observatoire-mont-soleil.ch
SUMMARY:Rapprochement entre Saturne et Neptune (dist. topocentrique centre à centre = 0
DESCRIPTION:
URL:https://observatoire-mont-soleil.ch/event/rapprochement-entre-saturne-et-neptune-dist-topocentrique-centre-a-centre-0/
END:VEVENT
END:VCALENDAR